Back to Multiple platform build/check report for BioC 3.7
AB[C]DEFGHIJKLMNOPQRSTUVWXYZ

BUILD report for cellity on merida2

This page was generated on 2018-07-19 11:15:40 -0400 (Thu, 19 Jul 2018).

Package 203/1560HostnameOS / ArchINSTALLBUILDCHECKBUILD BIN
cellity 1.8.0
Tomislav Ilicic
Snapshot Date: 2018-07-18 16:45:10 -0400 (Wed, 18 Jul 2018)
URL: https://git.bioconductor.org/packages/cellity
Branch: RELEASE_3_7
Last Commit: f661732
Last Changed Date: 2018-04-30 10:35:40 -0400 (Mon, 30 Apr 2018)
malbec2 Linux (Ubuntu 16.04.1 LTS) / x86_64  OK  OK  OK UNNEEDED, same version exists in internal repository
tokay2 Windows Server 2012 R2 Standard / x64  OK  OK  OK  OK UNNEEDED, same version exists in internal repository
merida2 OS X 10.11.6 El Capitan / x86_64  OK [ OK ] OK  OK UNNEEDED, same version exists in internal repository

Summary

Package: cellity
Version: 1.8.0
Command: /Library/Frameworks/R.framework/Versions/Current/Resources/bin/R CMD build --keep-empty-dirs --no-resave-data cellity
StartedAt: 2018-07-18 20:27:01 -0400 (Wed, 18 Jul 2018)
EndedAt: 2018-07-18 20:28:49 -0400 (Wed, 18 Jul 2018)
EllapsedTime: 108.6 seconds
RetCode: 0
Status:  OK 
PackageFile: cellity_1.8.0.tar.gz
PackageFileSize: 1.271 MiB

Command output

##############################################################################
##############################################################################
###
### Running command:
###
###   /Library/Frameworks/R.framework/Versions/Current/Resources/bin/R CMD build --keep-empty-dirs --no-resave-data cellity
###
##############################################################################
##############################################################################


* checking for file ‘cellity/DESCRIPTION’ ... OK
* preparing ‘cellity’:
* checking DESCRIPTION meta-information ... OK
* installing the package to build vignettes
* creating vignettes ... OK
* checking for LF line-endings in source and make files and shell scripts
* checking for empty or unneeded directories
* looking to see if a ‘data/datalist’ file should be added
* building ‘cellity_1.8.0.tar.gz’