Back to Multiple platform build/check report for BioC 3.7
A[B]CDEFGHIJKLMNOPQRSTUVWXYZ

BUILD report for blima on merida2

This page was generated on 2018-04-21 09:39:24 -0400 (Sat, 21 Apr 2018).

Package 156/1551HostnameOS / ArchINSTALLBUILDCHECKBUILD BIN
blima 1.13.0
Vojtěch Kulvait
Snapshot Date: 2018-04-20 16:45:23 -0400 (Fri, 20 Apr 2018)
URL: https://git.bioconductor.org/packages/blima
Branch: master
Last Commit: e37a71c
Last Changed Date: 2017-10-30 12:53:18 -0400 (Mon, 30 Oct 2017)
malbec2 Linux (Ubuntu 16.04.1 LTS) / x86_64  OK  OK  WARNINGS UNNEEDED, same version exists in internal repository
tokay2 Windows Server 2012 R2 Standard / x64  OK  OK  WARNINGS  OK UNNEEDED, same version exists in internal repository
merida2 OS X 10.11.6 El Capitan / x86_64  OK [ OK ] WARNINGS  OK UNNEEDED, same version exists in internal repository

Summary

Package: blima
Version: 1.13.0
Command: /Library/Frameworks/R.framework/Versions/Current/Resources/bin/R CMD build --keep-empty-dirs --no-resave-data blima
StartedAt: 2018-04-20 19:49:09 -0400 (Fri, 20 Apr 2018)
EndedAt: 2018-04-20 19:59:56 -0400 (Fri, 20 Apr 2018)
EllapsedTime: 647.0 seconds
RetCode: 0
Status:  OK 
PackageFile: blima_1.13.0.tar.gz
PackageFileSize: 250.8 KiB

Command output

##############################################################################
##############################################################################
###
### Running command:
###
###   /Library/Frameworks/R.framework/Versions/Current/Resources/bin/R CMD build --keep-empty-dirs --no-resave-data blima
###
##############################################################################
##############################################################################


* checking for file ‘blima/DESCRIPTION’ ... OK
* preparing ‘blima’:
* checking DESCRIPTION meta-information ... OK
* cleaning src
* installing the package to process help pages
* saving partial Rd database
* creating vignettes ... OK
* cleaning src
* checking for LF line-endings in source and make files and shell scripts
* checking for empty or unneeded directories
* building ‘blima_1.13.0.tar.gz’