Back to Multiple platform build/check report for BioC 3.7
A[B]CDEFGHIJKLMNOPQRSTUVWXYZ

INSTALL report for ballgown on merida2

This page was generated on 2018-04-21 09:39:44 -0400 (Sat, 21 Apr 2018).

Package 89/1551HostnameOS / ArchINSTALLBUILDCHECKBUILD BIN
ballgown 2.11.1
Jack Fu
Snapshot Date: 2018-04-20 16:45:23 -0400 (Fri, 20 Apr 2018)
URL: https://git.bioconductor.org/packages/ballgown
Branch: master
Last Commit: 89cb3df
Last Changed Date: 2018-02-08 23:53:54 -0400 (Thu, 08 Feb 2018)
malbec2 Linux (Ubuntu 16.04.1 LTS) / x86_64  OK  OK  OK UNNEEDED, same version exists in internal repository
tokay2 Windows Server 2012 R2 Standard / x64  OK  OK  OK  OK UNNEEDED, same version exists in internal repository
merida2 OS X 10.11.6 El Capitan / x86_64 [ OK ] OK  OK  OK UNNEEDED, same version exists in internal repository

Summary

Package: ballgown
Version: 2.11.1
Command: /Library/Frameworks/R.framework/Versions/Current/Resources/bin/R CMD INSTALL ballgown
StartedAt: 2018-04-20 18:26:29 -0400 (Fri, 20 Apr 2018)
EndedAt: 2018-04-20 18:27:01 -0400 (Fri, 20 Apr 2018)
EllapsedTime: 32.1 seconds
RetCode: 0
Status:  OK 

Command output

##############################################################################
##############################################################################
###
### Running command:
###
###   /Library/Frameworks/R.framework/Versions/Current/Resources/bin/R CMD INSTALL ballgown
###
##############################################################################
##############################################################################


* installing to library ‘/Library/Frameworks/R.framework/Versions/3.5/Resources/library’
* installing *source* package ‘ballgown’ ...
** R
** data
** inst
** byte-compile and prepare package for lazy loading
Creating a new generic function for ‘structure’ in package ‘ballgown’
** help
*** installing help indices
** building package indices
** installing vignettes
** testing if installed package can be loaded
* DONE (ballgown)