Back to Multiple platform build/check report for BioC 3.7
[A]BCDEFGHIJKLMNOPQRSTUVWXYZ

BUILD report for apComplex on malbec2

This page was generated on 2018-07-19 10:30:06 -0400 (Thu, 19 Jul 2018).

Package 62/1560HostnameOS / ArchINSTALLBUILDCHECKBUILD BIN
apComplex 2.46.0
Denise Scholtens
Snapshot Date: 2018-07-18 16:45:10 -0400 (Wed, 18 Jul 2018)
URL: https://git.bioconductor.org/packages/apComplex
Branch: RELEASE_3_7
Last Commit: 78dbefa
Last Changed Date: 2018-04-30 10:35:01 -0400 (Mon, 30 Apr 2018)
malbec2 Linux (Ubuntu 16.04.1 LTS) / x86_64  OK [ OK ] OK UNNEEDED, same version exists in internal repository
tokay2 Windows Server 2012 R2 Standard / x64  OK  OK  OK  OK UNNEEDED, same version exists in internal repository
merida2 OS X 10.11.6 El Capitan / x86_64  OK  OK  OK  OK UNNEEDED, same version exists in internal repository

Summary

Package: apComplex
Version: 2.46.0
Command: /home/biocbuild/bbs-3.7-bioc/R/bin/R CMD build --keep-empty-dirs --no-resave-data apComplex
StartedAt: 2018-07-18 18:46:21 -0400 (Wed, 18 Jul 2018)
EndedAt: 2018-07-18 18:46:35 -0400 (Wed, 18 Jul 2018)
EllapsedTime: 13.3 seconds
RetCode: 0
Status:  OK 
PackageFile: apComplex_2.46.0.tar.gz
PackageFileSize: 664.7 KiB

Command output

##############################################################################
##############################################################################
###
### Running command:
###
###   /home/biocbuild/bbs-3.7-bioc/R/bin/R CMD build --keep-empty-dirs --no-resave-data apComplex
###
##############################################################################
##############################################################################


* checking for file ‘apComplex/DESCRIPTION’ ... OK
* preparing ‘apComplex’:
* checking DESCRIPTION meta-information ... OK
* installing the package to build vignettes
* creating vignettes ... OK
* checking for LF line-endings in source and make files and shell scripts
* checking for empty or unneeded directories
* looking to see if a ‘data/datalist’ file should be added
* building ‘apComplex_2.46.0.tar.gz’