Back to Multiple platform build/check report for BioC 3.7
[A]BCDEFGHIJKLMNOPQRSTUVWXYZ

BUILD report for ampliQueso on malbec2

This page was generated on 2018-04-21 09:09:08 -0400 (Sat, 21 Apr 2018).

Package 42/1551HostnameOS / ArchINSTALLBUILDCHECKBUILD BIN
ampliQueso 1.17.0
Michal Okoniewski
Snapshot Date: 2018-04-20 16:45:23 -0400 (Fri, 20 Apr 2018)
URL: https://git.bioconductor.org/packages/ampliQueso
Branch: master
Last Commit: a9aa5bf
Last Changed Date: 2017-10-30 12:52:53 -0400 (Mon, 30 Oct 2017)
malbec2 Linux (Ubuntu 16.04.1 LTS) / x86_64  OK [ OK ] WARNINGS UNNEEDED, same version exists in internal repository
tokay2 Windows Server 2012 R2 Standard / x64  OK  OK  WARNINGS  OK UNNEEDED, same version exists in internal repository
merida2 OS X 10.11.6 El Capitan / x86_64  OK  OK  WARNINGS  OK UNNEEDED, same version exists in internal repository

Summary

Package: ampliQueso
Version: 1.17.0
Command: /home/biocbuild/bbs-3.7-bioc/R/bin/R CMD build --keep-empty-dirs --no-resave-data ampliQueso
StartedAt: 2018-04-20 19:48:28 -0400 (Fri, 20 Apr 2018)
EndedAt: 2018-04-20 19:49:22 -0400 (Fri, 20 Apr 2018)
EllapsedTime: 54.5 seconds
RetCode: 0
Status:  OK 
PackageFile: ampliQueso_1.17.0.tar.gz
PackageFileSize: 2.186 MiB

Command output

##############################################################################
##############################################################################
###
### Running command:
###
###   /home/biocbuild/bbs-3.7-bioc/R/bin/R CMD build --keep-empty-dirs --no-resave-data ampliQueso
###
##############################################################################
##############################################################################


* checking for file ‘ampliQueso/DESCRIPTION’ ... OK
* preparing ‘ampliQueso’:
* checking DESCRIPTION meta-information ... OK
* installing the package to build vignettes
* creating vignettes ... OK
* checking for LF line-endings in source and make files and shell scripts
* checking for empty or unneeded directories
* looking to see if a ‘data/datalist’ file should be added
* building ‘ampliQueso_1.17.0.tar.gz’