Back to Multiple platform build/check report for BioC 3.7
[A]BCDEFGHIJKLMNOPQRSTUVWXYZ

BUILD report for alpine on malbec2

This page was generated on 2018-04-21 09:13:12 -0400 (Sat, 21 Apr 2018).

Package 37/1551HostnameOS / ArchINSTALLBUILDCHECKBUILD BIN
alpine 1.5.3
Michael Love
Snapshot Date: 2018-04-20 16:45:23 -0400 (Fri, 20 Apr 2018)
URL: https://git.bioconductor.org/packages/alpine
Branch: master
Last Commit: 477ea52
Last Changed Date: 2018-02-08 22:40:54 -0400 (Thu, 08 Feb 2018)
malbec2 Linux (Ubuntu 16.04.1 LTS) / x86_64  OK [ OK ] OK UNNEEDED, same version exists in internal repository
tokay2 Windows Server 2012 R2 Standard / x64  OK  OK  OK  OK UNNEEDED, same version exists in internal repository
merida2 OS X 10.11.6 El Capitan / x86_64  OK  OK  OK  OK UNNEEDED, same version exists in internal repository

Summary

Package: alpine
Version: 1.5.3
Command: /home/biocbuild/bbs-3.7-bioc/R/bin/R CMD build --keep-empty-dirs --no-resave-data alpine
StartedAt: 2018-04-20 21:02:51 -0400 (Fri, 20 Apr 2018)
EndedAt: 2018-04-20 21:06:19 -0400 (Fri, 20 Apr 2018)
EllapsedTime: 208.5 seconds
RetCode: 0
Status:  OK 
PackageFile: alpine_1.5.3.tar.gz
PackageFileSize: 451.1 KiB

Command output

##############################################################################
##############################################################################
###
### Running command:
###
###   /home/biocbuild/bbs-3.7-bioc/R/bin/R CMD build --keep-empty-dirs --no-resave-data alpine
###
##############################################################################
##############################################################################


* checking for file ‘alpine/DESCRIPTION’ ... OK
* preparing ‘alpine’:
* checking DESCRIPTION meta-information ... OK
* installing the package to build vignettes
* creating vignettes ... OK
* checking for LF line-endings in source and make files and shell scripts
* checking for empty or unneeded directories
* looking to see if a ‘data/datalist’ file should be added
* building ‘alpine_1.5.3.tar.gz’