Back to Multiple platform build/check report for BioC 3.7
AB[C]DEFGHIJKLMNOPQRSTUVWXYZ

INSTALL report for COMPASS on tokay2

This page was generated on 2018-07-19 10:53:47 -0400 (Thu, 19 Jul 2018).

Package 292/1560HostnameOS / ArchINSTALLBUILDCHECKBUILD BIN
COMPASS 1.18.0
Greg Finak
Snapshot Date: 2018-07-18 16:45:10 -0400 (Wed, 18 Jul 2018)
URL: https://git.bioconductor.org/packages/COMPASS
Branch: RELEASE_3_7
Last Commit: 9d48dc8
Last Changed Date: 2018-04-30 10:35:32 -0400 (Mon, 30 Apr 2018)
malbec2 Linux (Ubuntu 16.04.1 LTS) / x86_64  OK  OK  OK UNNEEDED, same version exists in internal repository
tokay2 Windows Server 2012 R2 Standard / x64 [ OK ] OK  OK  OK UNNEEDED, same version exists in internal repository
merida2 OS X 10.11.6 El Capitan / x86_64  OK  OK  OK  OK UNNEEDED, same version exists in internal repository

Summary

Package: COMPASS
Version: 1.18.0
Command: C:\cygwin\bin\curl.exe -O https://malbec2.bioconductor.org/BBS/3.7/bioc/src/contrib/COMPASS_1.18.0.tar.gz && rm -rf COMPASS.buildbin-libdir && mkdir COMPASS.buildbin-libdir && C:\Users\biocbuild\bbs-3.7-bioc\R\bin\R.exe CMD INSTALL --merge-multiarch --build --library=COMPASS.buildbin-libdir COMPASS_1.18.0.tar.gz && C:\Users\biocbuild\bbs-3.7-bioc\R\bin\R.exe CMD INSTALL COMPASS_1.18.0.zip && rm COMPASS_1.18.0.tar.gz COMPASS_1.18.0.zip
StartedAt: 2018-07-18 19:00:02 -0400 (Wed, 18 Jul 2018)
EndedAt: 2018-07-18 19:02:41 -0400 (Wed, 18 Jul 2018)
EllapsedTime: 159.0 seconds
RetCode: 0
Status:  OK  

Command output

##############################################################################
##############################################################################
###
### Running command:
###
###   C:\cygwin\bin\curl.exe -O https://malbec2.bioconductor.org/BBS/3.7/bioc/src/contrib/COMPASS_1.18.0.tar.gz && rm -rf COMPASS.buildbin-libdir && mkdir COMPASS.buildbin-libdir && C:\Users\biocbuild\bbs-3.7-bioc\R\bin\R.exe CMD INSTALL --merge-multiarch --build --library=COMPASS.buildbin-libdir COMPASS_1.18.0.tar.gz && C:\Users\biocbuild\bbs-3.7-bioc\R\bin\R.exe CMD INSTALL COMPASS_1.18.0.zip && rm COMPASS_1.18.0.tar.gz COMPASS_1.18.0.zip
###
##############################################################################
##############################################################################


  % Total    % Received % Xferd  Average Speed   Time    Time     Time  Current
                                 Dload  Upload   Total   Spent    Left  Speed

  0     0    0     0    0     0      0      0 --:--:-- --:--:-- --:--:--     0
100  899k  100  899k    0     0  11.9M      0 --:--:-- --:--:-- --:--:-- 13.1M

install for i386

* installing *source* package 'COMPASS' ...
** libs
C:/Rtools/mingw_32/bin/gcc  -I"C:/Users/BIOCBU˜1/BBS-3˜1.7-B/R/include" -DNDEBUG  -I"C:/Users/biocbuild/bbs-3.7-bioc/R/library/Rcpp/include"   -I"C:/extsoft/include"     -O3 -Wall  -std=gnu99 -mtune=generic -c COMPASS_init.c -o COMPASS_init.o
C:/Rtools/mingw_32/bin/g++  -I"C:/Users/BIOCBU˜1/BBS-3˜1.7-B/R/include" -DNDEBUG  -I"C:/Users/biocbuild/bbs-3.7-bioc/R/library/Rcpp/include"   -I"C:/extsoft/include"     -O2 -Wall  -mtune=generic -c CellCounts.cpp -o CellCounts.o
C:/Rtools/mingw_32/bin/g++  -I"C:/Users/BIOCBU˜1/BBS-3˜1.7-B/R/include" -DNDEBUG  -I"C:/Users/biocbuild/bbs-3.7-bioc/R/library/Rcpp/include"   -I"C:/extsoft/include"     -O2 -Wall  -mtune=generic -c CellCounts_character.cpp -o CellCounts_character.o
C:/Rtools/mingw_32/bin/g++  -I"C:/Users/BIOCBU˜1/BBS-3˜1.7-B/R/include" -DNDEBUG  -I"C:/Users/biocbuild/bbs-3.7-bioc/R/library/Rcpp/include"   -I"C:/extsoft/include"     -O2 -Wall  -mtune=generic -c RcppExports.cpp -o RcppExports.o
C:/Rtools/mingw_32/bin/gcc  -I"C:/Users/BIOCBU˜1/BBS-3˜1.7-B/R/include" -DNDEBUG  -I"C:/Users/biocbuild/bbs-3.7-bioc/R/library/Rcpp/include"   -I"C:/extsoft/include"     -O3 -Wall  -std=gnu99 -mtune=generic -c digamma.c -o digamma.o
C:/Rtools/mingw_32/bin/gcc  -I"C:/Users/BIOCBU˜1/BBS-3˜1.7-B/R/include" -DNDEBUG  -I"C:/Users/biocbuild/bbs-3.7-bioc/R/library/Rcpp/include"   -I"C:/extsoft/include"     -O3 -Wall  -std=gnu99 -mtune=generic -c mat2vec.c -o mat2vec.o
C:/Rtools/mingw_32/bin/gcc  -I"C:/Users/BIOCBU˜1/BBS-3˜1.7-B/R/include" -DNDEBUG  -I"C:/Users/biocbuild/bbs-3.7-bioc/R/library/Rcpp/include"   -I"C:/extsoft/include"     -O3 -Wall  -std=gnu99 -mtune=generic -c melt_dataframe.c -o melt_dataframe.o
C:/Rtools/mingw_32/bin/gcc  -I"C:/Users/BIOCBU˜1/BBS-3˜1.7-B/R/include" -DNDEBUG  -I"C:/Users/biocbuild/bbs-3.7-bioc/R/library/Rcpp/include"   -I"C:/extsoft/include"     -O3 -Wall  -std=gnu99 -mtune=generic -c melt_matrix.c -o melt_matrix.o
C:/Rtools/mingw_32/bin/g++  -I"C:/Users/BIOCBU˜1/BBS-3˜1.7-B/R/include" -DNDEBUG  -I"C:/Users/biocbuild/bbs-3.7-bioc/R/library/Rcpp/include"   -I"C:/extsoft/include"     -O2 -Wall  -mtune=generic -c samplePuPs.cpp -o samplePuPs.o
C:/Rtools/mingw_32/bin/gcc  -I"C:/Users/BIOCBU˜1/BBS-3˜1.7-B/R/include" -DNDEBUG  -I"C:/Users/biocbuild/bbs-3.7-bioc/R/library/Rcpp/include"   -I"C:/extsoft/include"     -O3 -Wall  -std=gnu99 -mtune=generic -c transpose_list.c -o transpose_list.o
C:/Rtools/mingw_32/bin/g++  -I"C:/Users/BIOCBU˜1/BBS-3˜1.7-B/R/include" -DNDEBUG  -I"C:/Users/biocbuild/bbs-3.7-bioc/R/library/Rcpp/include"   -I"C:/extsoft/include"     -O2 -Wall  -mtune=generic -c updatealphas_Exp.cpp -o updatealphas_Exp.o
C:/Rtools/mingw_32/bin/g++  -I"C:/Users/BIOCBU˜1/BBS-3˜1.7-B/R/include" -DNDEBUG  -I"C:/Users/biocbuild/bbs-3.7-bioc/R/library/Rcpp/include"   -I"C:/extsoft/include"     -O2 -Wall  -mtune=generic -c updatealphau.cpp -o updatealphau.o
C:/Rtools/mingw_32/bin/g++  -I"C:/Users/BIOCBU˜1/BBS-3˜1.7-B/R/include" -DNDEBUG  -I"C:/Users/biocbuild/bbs-3.7-bioc/R/library/Rcpp/include"   -I"C:/extsoft/include"     -O2 -Wall  -mtune=generic -c updatealphau_noPu_Exp.cpp -o updatealphau_noPu_Exp.o
C:/Rtools/mingw_32/bin/g++  -I"C:/Users/BIOCBU˜1/BBS-3˜1.7-B/R/include" -DNDEBUG  -I"C:/Users/biocbuild/bbs-3.7-bioc/R/library/Rcpp/include"   -I"C:/extsoft/include"     -O2 -Wall  -mtune=generic -c updatebeta_RW.cpp -o updatebeta_RW.o
C:/Rtools/mingw_32/bin/g++  -I"C:/Users/BIOCBU˜1/BBS-3˜1.7-B/R/include" -DNDEBUG  -I"C:/Users/biocbuild/bbs-3.7-bioc/R/library/Rcpp/include"   -I"C:/extsoft/include"     -O2 -Wall  -mtune=generic -c updategammak_noPu.cpp -o updategammak_noPu.o
C:/Rtools/mingw_32/bin/gcc  -I"C:/Users/BIOCBU˜1/BBS-3˜1.7-B/R/include" -DNDEBUG  -I"C:/Users/biocbuild/bbs-3.7-bioc/R/library/Rcpp/include"   -I"C:/extsoft/include"     -O3 -Wall  -std=gnu99 -mtune=generic -c utils.c -o utils.o
C:/Rtools/mingw_32/bin/g++ -shared -s -static-libgcc -o COMPASS.dll tmp.def COMPASS_init.o CellCounts.o CellCounts_character.o RcppExports.o digamma.o mat2vec.o melt_dataframe.o melt_matrix.o samplePuPs.o transpose_list.o updatealphas_Exp.o updatealphau.o updatealphau_noPu_Exp.o updatebeta_RW.o updategammak_noPu.o utils.o -LC:/Users/BIOCBU˜1/BBS-3˜1.7-B/R/bin/i386 -lRlapack -LC:/Users/BIOCBU˜1/BBS-3˜1.7-B/R/bin/i386 -lRblas -lgfortran -lm -lquadmath -LC:/extsoft/lib/i386 -LC:/extsoft/lib -LC:/Users/BIOCBU˜1/BBS-3˜1.7-B/R/bin/i386 -lR
installing to C:/Users/biocbuild/bbs-3.7-bioc/meat/COMPASS.buildbin-libdir/COMPASS/libs/i386
** R
** data
*** moving datasets to lazyload DB
** inst
** byte-compile and prepare package for lazy loading
** help
*** installing help indices
  converting help for package 'COMPASS'
    finding HTML links ... done
    COMPASS-package                         html  
    COMPASS                                 html  
    COMPASSContainer-data                   html  
    COMPASSContainer                        html  
    COMPASSContainerFromGatingSet           html  
    COMPASSDescription                      html  
    COMPASSResult-accessors                 html  
    COMPASSResult-data                      html  
    COMPASSfitToCountsTable                 html  
    CellCounts                              html  
    Combinations                            html  
    FunctionalityScore                      html  
    GetThresholdedIntensities               html  
    PolyfunctionalityScore                  html  
    Posterior                               html  
    SimpleCOMPASS                           html  
    TotalCellCounts                         html  
    UniqueCombinations                      html  
    categories                              html  
    getCounts                               html  
    markers                                 html  
    melt_                                   html  
    merge.COMPASSContainer                  html  
    metadata                                html  
    pheatmap                                html  
    plot.COMPASSResult                      html  
    plot2                                   html  
    plotCOMPASSResultStack                  html  
    print.COMPASSContainer                  html  
    print.COMPASSResult                     html  
    scores                                  html  
    select_compass_pops                     html  
    shinyCOMPASS                            html  
    shinyCOMPASSDeps                        html  
    subset.COMPASSContainer                 html  
    summary.COMPASSContainer                html  
    summary.COMPASSResult                   html  
    translate_marker_names                  html  
    transpose_list                          html  
** building package indices
** installing vignettes
** testing if installed package can be loaded
In R CMD INSTALL

install for x64

* installing *source* package 'COMPASS' ...
** libs
C:/Rtools/mingw_64/bin/gcc  -I"C:/Users/BIOCBU˜1/BBS-3˜1.7-B/R/include" -DNDEBUG  -I"C:/Users/biocbuild/bbs-3.7-bioc/R/library/Rcpp/include"   -I"C:/extsoft/include"     -O2 -Wall  -std=gnu99 -mtune=generic -c COMPASS_init.c -o COMPASS_init.o
C:/Rtools/mingw_64/bin/g++  -I"C:/Users/BIOCBU˜1/BBS-3˜1.7-B/R/include" -DNDEBUG  -I"C:/Users/biocbuild/bbs-3.7-bioc/R/library/Rcpp/include"   -I"C:/extsoft/include"     -O2 -Wall  -mtune=generic -c CellCounts.cpp -o CellCounts.o
C:/Rtools/mingw_64/bin/g++  -I"C:/Users/BIOCBU˜1/BBS-3˜1.7-B/R/include" -DNDEBUG  -I"C:/Users/biocbuild/bbs-3.7-bioc/R/library/Rcpp/include"   -I"C:/extsoft/include"     -O2 -Wall  -mtune=generic -c CellCounts_character.cpp -o CellCounts_character.o
C:/Rtools/mingw_64/bin/g++  -I"C:/Users/BIOCBU˜1/BBS-3˜1.7-B/R/include" -DNDEBUG  -I"C:/Users/biocbuild/bbs-3.7-bioc/R/library/Rcpp/include"   -I"C:/extsoft/include"     -O2 -Wall  -mtune=generic -c RcppExports.cpp -o RcppExports.o
C:/Rtools/mingw_64/bin/gcc  -I"C:/Users/BIOCBU˜1/BBS-3˜1.7-B/R/include" -DNDEBUG  -I"C:/Users/biocbuild/bbs-3.7-bioc/R/library/Rcpp/include"   -I"C:/extsoft/include"     -O2 -Wall  -std=gnu99 -mtune=generic -c digamma.c -o digamma.o
C:/Rtools/mingw_64/bin/gcc  -I"C:/Users/BIOCBU˜1/BBS-3˜1.7-B/R/include" -DNDEBUG  -I"C:/Users/biocbuild/bbs-3.7-bioc/R/library/Rcpp/include"   -I"C:/extsoft/include"     -O2 -Wall  -std=gnu99 -mtune=generic -c mat2vec.c -o mat2vec.o
C:/Rtools/mingw_64/bin/gcc  -I"C:/Users/BIOCBU˜1/BBS-3˜1.7-B/R/include" -DNDEBUG  -I"C:/Users/biocbuild/bbs-3.7-bioc/R/library/Rcpp/include"   -I"C:/extsoft/include"     -O2 -Wall  -std=gnu99 -mtune=generic -c melt_dataframe.c -o melt_dataframe.o
C:/Rtools/mingw_64/bin/gcc  -I"C:/Users/BIOCBU˜1/BBS-3˜1.7-B/R/include" -DNDEBUG  -I"C:/Users/biocbuild/bbs-3.7-bioc/R/library/Rcpp/include"   -I"C:/extsoft/include"     -O2 -Wall  -std=gnu99 -mtune=generic -c melt_matrix.c -o melt_matrix.o
C:/Rtools/mingw_64/bin/g++  -I"C:/Users/BIOCBU˜1/BBS-3˜1.7-B/R/include" -DNDEBUG  -I"C:/Users/biocbuild/bbs-3.7-bioc/R/library/Rcpp/include"   -I"C:/extsoft/include"     -O2 -Wall  -mtune=generic -c samplePuPs.cpp -o samplePuPs.o
C:/Rtools/mingw_64/bin/gcc  -I"C:/Users/BIOCBU˜1/BBS-3˜1.7-B/R/include" -DNDEBUG  -I"C:/Users/biocbuild/bbs-3.7-bioc/R/library/Rcpp/include"   -I"C:/extsoft/include"     -O2 -Wall  -std=gnu99 -mtune=generic -c transpose_list.c -o transpose_list.o
C:/Rtools/mingw_64/bin/g++  -I"C:/Users/BIOCBU˜1/BBS-3˜1.7-B/R/include" -DNDEBUG  -I"C:/Users/biocbuild/bbs-3.7-bioc/R/library/Rcpp/include"   -I"C:/extsoft/include"     -O2 -Wall  -mtune=generic -c updatealphas_Exp.cpp -o updatealphas_Exp.o
C:/Rtools/mingw_64/bin/g++  -I"C:/Users/BIOCBU˜1/BBS-3˜1.7-B/R/include" -DNDEBUG  -I"C:/Users/biocbuild/bbs-3.7-bioc/R/library/Rcpp/include"   -I"C:/extsoft/include"     -O2 -Wall  -mtune=generic -c updatealphau.cpp -o updatealphau.o
C:/Rtools/mingw_64/bin/g++  -I"C:/Users/BIOCBU˜1/BBS-3˜1.7-B/R/include" -DNDEBUG  -I"C:/Users/biocbuild/bbs-3.7-bioc/R/library/Rcpp/include"   -I"C:/extsoft/include"     -O2 -Wall  -mtune=generic -c updatealphau_noPu_Exp.cpp -o updatealphau_noPu_Exp.o
C:/Rtools/mingw_64/bin/g++  -I"C:/Users/BIOCBU˜1/BBS-3˜1.7-B/R/include" -DNDEBUG  -I"C:/Users/biocbuild/bbs-3.7-bioc/R/library/Rcpp/include"   -I"C:/extsoft/include"     -O2 -Wall  -mtune=generic -c updatebeta_RW.cpp -o updatebeta_RW.o
C:/Rtools/mingw_64/bin/g++  -I"C:/Users/BIOCBU˜1/BBS-3˜1.7-B/R/include" -DNDEBUG  -I"C:/Users/biocbuild/bbs-3.7-bioc/R/library/Rcpp/include"   -I"C:/extsoft/include"     -O2 -Wall  -mtune=generic -c updategammak_noPu.cpp -o updategammak_noPu.o
C:/Rtools/mingw_64/bin/gcc  -I"C:/Users/BIOCBU˜1/BBS-3˜1.7-B/R/include" -DNDEBUG  -I"C:/Users/biocbuild/bbs-3.7-bioc/R/library/Rcpp/include"   -I"C:/extsoft/include"     -O2 -Wall  -std=gnu99 -mtune=generic -c utils.c -o utils.o
C:/Rtools/mingw_64/bin/g++ -shared -s -static-libgcc -o COMPASS.dll tmp.def COMPASS_init.o CellCounts.o CellCounts_character.o RcppExports.o digamma.o mat2vec.o melt_dataframe.o melt_matrix.o samplePuPs.o transpose_list.o updatealphas_Exp.o updatealphau.o updatealphau_noPu_Exp.o updatebeta_RW.o updategammak_noPu.o utils.o -LC:/Users/BIOCBU˜1/BBS-3˜1.7-B/R/bin/x64 -lRlapack -LC:/Users/BIOCBU˜1/BBS-3˜1.7-B/R/bin/x64 -lRblas -lgfortran -lm -lquadmath -LC:/extsoft/lib/x64 -LC:/extsoft/lib -LC:/Users/BIOCBU˜1/BBS-3˜1.7-B/R/bin/x64 -lR
installing to C:/Users/biocbuild/bbs-3.7-bioc/meat/COMPASS.buildbin-libdir/COMPASS/libs/x64
** testing if installed package can be loaded
* MD5 sums
packaged installation of 'COMPASS' as COMPASS_1.18.0.zip
* DONE (COMPASS)
In R CMD INSTALL
In R CMD INSTALL
* installing to library 'C:/Users/biocbuild/bbs-3.7-bioc/R/library'
package 'COMPASS' successfully unpacked and MD5 sums checked
In R CMD INSTALL