Back to Multiple platform build/check report for BioC 3.7
AB[C]DEFGHIJKLMNOPQRSTUVWXYZ

BUILD report for CNTools on tokay2

This page was generated on 2018-07-19 10:46:53 -0400 (Thu, 19 Jul 2018).

Package 277/1560HostnameOS / ArchINSTALLBUILDCHECKBUILD BIN
CNTools 1.36.0
J. Zhang
Snapshot Date: 2018-07-18 16:45:10 -0400 (Wed, 18 Jul 2018)
URL: https://git.bioconductor.org/packages/CNTools
Branch: RELEASE_3_7
Last Commit: 1da9d1d
Last Changed Date: 2018-04-30 10:35:11 -0400 (Mon, 30 Apr 2018)
malbec2 Linux (Ubuntu 16.04.1 LTS) / x86_64  OK  OK  OK UNNEEDED, same version exists in internal repository
tokay2 Windows Server 2012 R2 Standard / x64  OK [ OK ] OK  OK UNNEEDED, same version exists in internal repository
merida2 OS X 10.11.6 El Capitan / x86_64  OK  OK  OK  OK UNNEEDED, same version exists in internal repository

Summary

Package: CNTools
Version: 1.36.0
Command: chmod a+r CNTools -R && C:\Users\biocbuild\bbs-3.7-bioc\R\bin\R.exe CMD build --keep-empty-dirs --no-resave-data CNTools
StartedAt: 2018-07-18 20:52:24 -0400 (Wed, 18 Jul 2018)
EndedAt: 2018-07-18 20:53:09 -0400 (Wed, 18 Jul 2018)
EllapsedTime: 45.0 seconds
RetCode: 0
Status:  OK  
PackageFile: CNTools_1.36.0.tar.gz
PackageFileSize: 889.5 KiB

Command output

##############################################################################
##############################################################################
###
### Running command:
###
###   chmod a+r CNTools -R && C:\Users\biocbuild\bbs-3.7-bioc\R\bin\R.exe CMD build --keep-empty-dirs --no-resave-data CNTools
###
##############################################################################
##############################################################################


* checking for file 'CNTools/DESCRIPTION' ... OK
* preparing 'CNTools':
* checking DESCRIPTION meta-information ... OK
* cleaning src
* installing the package to build vignettes
* creating vignettes ... OK
* cleaning src
* checking for LF line-endings in source and make files and shell scripts
* checking for empty or unneeded directories
* looking to see if a 'data/datalist' file should be added
* building 'CNTools_1.36.0.tar.gz'