Back to Multiple platform build/check report for BioC 3.7
AB[C]DEFGHIJKLMNOPQRSTUVWXYZ

BUILD report for CNAnorm on merida2

This page was generated on 2018-07-19 11:09:19 -0400 (Thu, 19 Jul 2018).

Package 270/1560HostnameOS / ArchINSTALLBUILDCHECKBUILD BIN
CNAnorm 1.26.0
Stefano Berri
Snapshot Date: 2018-07-18 16:45:10 -0400 (Wed, 18 Jul 2018)
URL: https://git.bioconductor.org/packages/CNAnorm
Branch: RELEASE_3_7
Last Commit: 4446f4c
Last Changed Date: 2018-04-30 10:35:21 -0400 (Mon, 30 Apr 2018)
malbec2 Linux (Ubuntu 16.04.1 LTS) / x86_64  OK  OK  OK UNNEEDED, same version exists in internal repository
tokay2 Windows Server 2012 R2 Standard / x64  OK  OK  OK  OK UNNEEDED, same version exists in internal repository
merida2 OS X 10.11.6 El Capitan / x86_64  OK [ OK ] OK  OK UNNEEDED, same version exists in internal repository

Summary

Package: CNAnorm
Version: 1.26.0
Command: /Library/Frameworks/R.framework/Versions/Current/Resources/bin/R CMD build --keep-empty-dirs --no-resave-data CNAnorm
StartedAt: 2018-07-18 19:13:38 -0400 (Wed, 18 Jul 2018)
EndedAt: 2018-07-18 19:14:09 -0400 (Wed, 18 Jul 2018)
EllapsedTime: 31.0 seconds
RetCode: 0
Status:  OK 
PackageFile: CNAnorm_1.26.0.tar.gz
PackageFileSize: 619.3 KiB

Command output

##############################################################################
##############################################################################
###
### Running command:
###
###   /Library/Frameworks/R.framework/Versions/Current/Resources/bin/R CMD build --keep-empty-dirs --no-resave-data CNAnorm
###
##############################################################################
##############################################################################


* checking for file ‘CNAnorm/DESCRIPTION’ ... OK
* preparing ‘CNAnorm’:
* checking DESCRIPTION meta-information ... OK
* cleaning src
* installing the package to build vignettes
* creating vignettes ... OK
* cleaning src
* checking for LF line-endings in source and make files and shell scripts
* checking for empty or unneeded directories
* looking to see if a ‘data/datalist’ file should be added
* building ‘CNAnorm_1.26.0.tar.gz’