Back to Multiple platform build/check report for BioC 3.7
AB[C]DEFGHIJKLMNOPQRSTUVWXYZ

BUILD report for CMA on malbec2

This page was generated on 2018-04-21 09:05:45 -0400 (Sat, 21 Apr 2018).

Package 264/1551HostnameOS / ArchINSTALLBUILDCHECKBUILD BIN
CMA 1.37.0
Christoph Bernau
Snapshot Date: 2018-04-20 16:45:23 -0400 (Fri, 20 Apr 2018)
URL: https://git.bioconductor.org/packages/CMA
Branch: master
Last Commit: f2526fd
Last Changed Date: 2017-10-30 12:52:08 -0400 (Mon, 30 Oct 2017)
malbec2 Linux (Ubuntu 16.04.1 LTS) / x86_64  OK [ OK ] OK UNNEEDED, same version exists in internal repository
tokay2 Windows Server 2012 R2 Standard / x64  OK  OK  OK  OK UNNEEDED, same version exists in internal repository
merida2 OS X 10.11.6 El Capitan / x86_64  OK  OK  OK  OK UNNEEDED, same version exists in internal repository

Summary

Package: CMA
Version: 1.37.0
Command: /home/biocbuild/bbs-3.7-bioc/R/bin/R CMD build --keep-empty-dirs --no-resave-data CMA
StartedAt: 2018-04-20 18:55:52 -0400 (Fri, 20 Apr 2018)
EndedAt: 2018-04-20 18:56:17 -0400 (Fri, 20 Apr 2018)
EllapsedTime: 25.1 seconds
RetCode: 0
Status:  OK 
PackageFile: CMA_1.37.0.tar.gz
PackageFileSize: 1.07 MiB

Command output

##############################################################################
##############################################################################
###
### Running command:
###
###   /home/biocbuild/bbs-3.7-bioc/R/bin/R CMD build --keep-empty-dirs --no-resave-data CMA
###
##############################################################################
##############################################################################


* checking for file ‘CMA/DESCRIPTION’ ... OK
* preparing ‘CMA’:
* checking DESCRIPTION meta-information ... OK
* installing the package to build vignettes
* creating vignettes ... OK
* checking for LF line-endings in source and make files and shell scripts
* checking for empty or unneeded directories
* looking to see if a ‘data/datalist’ file should be added
* building ‘CMA_1.37.0.tar.gz’