Back to Multiple platform build/check report for BioC 3.7
AB[C]DEFGHIJKLMNOPQRSTUVWXYZ

INSTALL report for CAMERA on malbec2

This page was generated on 2018-07-19 10:31:46 -0400 (Thu, 19 Jul 2018).

Package 181/1560HostnameOS / ArchINSTALLBUILDCHECKBUILD BIN
CAMERA 1.36.0
Steffen Neumann
Snapshot Date: 2018-07-18 16:45:10 -0400 (Wed, 18 Jul 2018)
URL: https://git.bioconductor.org/packages/CAMERA
Branch: RELEASE_3_7
Last Commit: 7319a97
Last Changed Date: 2018-04-30 10:35:10 -0400 (Mon, 30 Apr 2018)
malbec2 Linux (Ubuntu 16.04.1 LTS) / x86_64 [ OK ] OK  OK UNNEEDED, same version exists in internal repository
tokay2 Windows Server 2012 R2 Standard / x64  OK  OK  OK  OK UNNEEDED, same version exists in internal repository
merida2 OS X 10.11.6 El Capitan / x86_64  OK  OK  OK  OK UNNEEDED, same version exists in internal repository

Summary

Package: CAMERA
Version: 1.36.0
Command: /home/biocbuild/bbs-3.7-bioc/R/bin/R CMD INSTALL CAMERA
StartedAt: 2018-07-18 18:34:33 -0400 (Wed, 18 Jul 2018)
EndedAt: 2018-07-18 18:34:55 -0400 (Wed, 18 Jul 2018)
EllapsedTime: 22.6 seconds
RetCode: 0
Status:  OK 

Command output

##############################################################################
##############################################################################
###
### Running command:
###
###   /home/biocbuild/bbs-3.7-bioc/R/bin/R CMD INSTALL CAMERA
###
##############################################################################
##############################################################################


* installing to library ‘/home/biocbuild/bbs-3.7-bioc/R/library’
* installing *source* package ‘CAMERA’ ...
** libs
gcc -I"/home/biocbuild/bbs-3.7-bioc/R/include" -DNDEBUG   -I/usr/local/include   -fpic  -g -O2  -Wall -c fastMatch.c -o fastMatch.o
gcc -shared -L/home/biocbuild/bbs-3.7-bioc/R/lib -L/usr/local/lib -o CAMERA.so fastMatch.o -L/home/biocbuild/bbs-3.7-bioc/R/lib -lR
installing to /home/biocbuild/bbs-3.7-bioc/R/library/CAMERA/libs
** R
** data
** inst
** byte-compile and prepare package for lazy loading
** help
*** installing help indices
** building package indices
** installing vignettes
** testing if installed package can be loaded
* DONE (CAMERA)