Back to Multiple platform build/check report for BioC 3.7
A[B]CDEFGHIJKLMNOPQRSTUVWXYZ

BUILD report for BubbleTree on tokay2

This page was generated on 2018-07-19 10:57:02 -0400 (Thu, 19 Jul 2018).

Package 171/1560HostnameOS / ArchINSTALLBUILDCHECKBUILD BIN
BubbleTree 2.10.0
Todd Creasy , Wei Zhu
Snapshot Date: 2018-07-18 16:45:10 -0400 (Wed, 18 Jul 2018)
URL: https://git.bioconductor.org/packages/BubbleTree
Branch: RELEASE_3_7
Last Commit: 9cc358b
Last Changed Date: 2018-04-30 10:35:35 -0400 (Mon, 30 Apr 2018)
malbec2 Linux (Ubuntu 16.04.1 LTS) / x86_64  OK  OK  OK UNNEEDED, same version exists in internal repository
tokay2 Windows Server 2012 R2 Standard / x64  OK [ OK ] OK  OK UNNEEDED, same version exists in internal repository
merida2 OS X 10.11.6 El Capitan / x86_64  OK  OK  OK  OK UNNEEDED, same version exists in internal repository

Summary

Package: BubbleTree
Version: 2.10.0
Command: chmod a+r BubbleTree -R && C:\Users\biocbuild\bbs-3.7-bioc\R\bin\R.exe CMD build --keep-empty-dirs --no-resave-data BubbleTree
StartedAt: 2018-07-18 22:17:56 -0400 (Wed, 18 Jul 2018)
EndedAt: 2018-07-18 22:22:25 -0400 (Wed, 18 Jul 2018)
EllapsedTime: 269.2 seconds
RetCode: 0
Status:  OK  
PackageFile: BubbleTree_2.10.0.tar.gz
PackageFileSize: 25.98 MiB

Command output

##############################################################################
##############################################################################
###
### Running command:
###
###   chmod a+r BubbleTree -R && C:\Users\biocbuild\bbs-3.7-bioc\R\bin\R.exe CMD build --keep-empty-dirs --no-resave-data BubbleTree
###
##############################################################################
##############################################################################


* checking for file 'BubbleTree/DESCRIPTION' ... OK
* preparing 'BubbleTree':
* checking DESCRIPTION meta-information ... OK
* installing the package to build vignettes
* creating vignettes ... OK
It is recommended to use 'given' instead of 'middle'.
* checking for LF line-endings in source and make files and shell scripts
* checking for empty or unneeded directories
* looking to see if a 'data/datalist' file should be added
* building 'BubbleTree_2.10.0.tar.gz'