Back to Multiple platform build/check report for BioC 3.7
A[B]CDEFGHIJKLMNOPQRSTUVWXYZ

BUILD BIN report for BubbleTree on merida2

This page was generated on 2018-07-19 11:13:51 -0400 (Thu, 19 Jul 2018).

Package 171/1560HostnameOS / ArchINSTALLBUILDCHECKBUILD BIN
BubbleTree 2.10.0
Todd Creasy , Wei Zhu
Snapshot Date: 2018-07-18 16:45:10 -0400 (Wed, 18 Jul 2018)
URL: https://git.bioconductor.org/packages/BubbleTree
Branch: RELEASE_3_7
Last Commit: 9cc358b
Last Changed Date: 2018-04-30 10:35:35 -0400 (Mon, 30 Apr 2018)
malbec2 Linux (Ubuntu 16.04.1 LTS) / x86_64  OK  OK  OK UNNEEDED, same version exists in internal repository
tokay2 Windows Server 2012 R2 Standard / x64  OK  OK  OK  OK UNNEEDED, same version exists in internal repository
merida2 OS X 10.11.6 El Capitan / x86_64  OK  OK  OK [ OK ]UNNEEDED, same version exists in internal repository

Summary

Package: BubbleTree
Version: 2.10.0
Command: rm -rf BubbleTree.buildbin-libdir && mkdir BubbleTree.buildbin-libdir && /Users/biocbuild/BBS/utils/build-universal.sh BubbleTree_2.10.0.tar.gz /Library/Frameworks/R.framework/Versions/Current/Resources/bin/R BubbleTree.buildbin-libdir
StartedAt: 2018-07-19 03:07:06 -0400 (Thu, 19 Jul 2018)
EndedAt: 2018-07-19 03:07:47 -0400 (Thu, 19 Jul 2018)
EllapsedTime: 41.1 seconds
RetCode: 0
Status:  OK 
PackageFile: BubbleTree_2.10.0.tgz
PackageFileSize: 28.06 MiB

Command output

##############################################################################
##############################################################################
###
### Running command:
###
###   rm -rf BubbleTree.buildbin-libdir && mkdir BubbleTree.buildbin-libdir && /Users/biocbuild/BBS/utils/build-universal.sh BubbleTree_2.10.0.tar.gz /Library/Frameworks/R.framework/Versions/Current/Resources/bin/R BubbleTree.buildbin-libdir
###
##############################################################################
##############################################################################


>>>>>>> 
>>>>>>> INSTALLATION WITH 'R CMD INSTALL --preclean --no-multiarch --library=BubbleTree.buildbin-libdir BubbleTree_2.10.0.tar.gz'
>>>>>>> 

* installing *source* package ‘BubbleTree’ ...
It is recommended to use ‘given’ instead of ‘middle’.
** R
** data
** inst
** byte-compile and prepare package for lazy loading
** help
*** installing help indices
** building package indices
** installing vignettes
** testing if installed package can be loaded
* DONE (BubbleTree)