Back to Multiple platform build/check report for BioC 3.7
A[B]CDEFGHIJKLMNOPQRSTUVWXYZ

BUILD report for BrainStars on tokay2

This page was generated on 2018-07-19 10:50:28 -0400 (Thu, 19 Jul 2018).

Package 163/1560HostnameOS / ArchINSTALLBUILDCHECKBUILD BIN
BrainStars 1.24.0
Itoshi NIKAIDO
Snapshot Date: 2018-07-18 16:45:10 -0400 (Wed, 18 Jul 2018)
URL: https://git.bioconductor.org/packages/BrainStars
Branch: RELEASE_3_7
Last Commit: 5079f69
Last Changed Date: 2018-04-30 10:35:24 -0400 (Mon, 30 Apr 2018)
malbec2 Linux (Ubuntu 16.04.1 LTS) / x86_64  OK  OK  OK UNNEEDED, same version exists in internal repository
tokay2 Windows Server 2012 R2 Standard / x64  OK [ OK ] OK  OK UNNEEDED, same version exists in internal repository
merida2 OS X 10.11.6 El Capitan / x86_64  OK  OK  OK  OK UNNEEDED, same version exists in internal repository

Summary

Package: BrainStars
Version: 1.24.0
Command: chmod a+r BrainStars -R && C:\Users\biocbuild\bbs-3.7-bioc\R\bin\R.exe CMD build --keep-empty-dirs --no-resave-data BrainStars
StartedAt: 2018-07-18 21:17:30 -0400 (Wed, 18 Jul 2018)
EndedAt: 2018-07-18 21:18:04 -0400 (Wed, 18 Jul 2018)
EllapsedTime: 34.0 seconds
RetCode: 0
Status:  OK  
PackageFile: BrainStars_1.24.0.tar.gz
PackageFileSize: 524.6 KiB

Command output

##############################################################################
##############################################################################
###
### Running command:
###
###   chmod a+r BrainStars -R && C:\Users\biocbuild\bbs-3.7-bioc\R\bin\R.exe CMD build --keep-empty-dirs --no-resave-data BrainStars
###
##############################################################################
##############################################################################


* checking for file 'BrainStars/DESCRIPTION' ... OK
* preparing 'BrainStars':
* checking DESCRIPTION meta-information ... OK
* installing the package to build vignettes
* creating vignettes ... OK
* checking for LF line-endings in source and make files and shell scripts
* checking for empty or unneeded directories
* building 'BrainStars_1.24.0.tar.gz'