Back to Multiple platform build/check report for BioC 3.7
A[B]CDEFGHIJKLMNOPQRSTUVWXYZ

INSTALL report for BiocStyle on tokay2

This page was generated on 2018-07-19 10:52:29 -0400 (Thu, 19 Jul 2018).

Package 135/1560HostnameOS / ArchINSTALLBUILDCHECKBUILD BIN
BiocStyle 2.8.2
Bioconductor Package Maintainer
Snapshot Date: 2018-07-18 16:45:10 -0400 (Wed, 18 Jul 2018)
URL: https://git.bioconductor.org/packages/BiocStyle
Branch: RELEASE_3_7
Last Commit: 3210c19
Last Changed Date: 2018-05-28 16:48:36 -0400 (Mon, 28 May 2018)
malbec2 Linux (Ubuntu 16.04.1 LTS) / x86_64  OK  OK  OK UNNEEDED, same version exists in internal repository
tokay2 Windows Server 2012 R2 Standard / x64 [ OK ] OK  OK  OK UNNEEDED, same version exists in internal repository
merida2 OS X 10.11.6 El Capitan / x86_64  OK  OK  OK  OK UNNEEDED, same version exists in internal repository

Summary

Package: BiocStyle
Version: 2.8.2
Command: C:\cygwin\bin\curl.exe -O https://malbec2.bioconductor.org/BBS/3.7/bioc/src/contrib/BiocStyle_2.8.2.tar.gz && rm -rf BiocStyle.buildbin-libdir && mkdir BiocStyle.buildbin-libdir && C:\Users\biocbuild\bbs-3.7-bioc\R\bin\R.exe CMD INSTALL --merge-multiarch --build --library=BiocStyle.buildbin-libdir BiocStyle_2.8.2.tar.gz && C:\Users\biocbuild\bbs-3.7-bioc\R\bin\R.exe CMD INSTALL BiocStyle_2.8.2.zip && rm BiocStyle_2.8.2.tar.gz BiocStyle_2.8.2.zip
StartedAt: 2018-07-18 18:59:11 -0400 (Wed, 18 Jul 2018)
EndedAt: 2018-07-18 19:00:00 -0400 (Wed, 18 Jul 2018)
EllapsedTime: 49.2 seconds
RetCode: 0
Status:  OK  

Command output

##############################################################################
##############################################################################
###
### Running command:
###
###   C:\cygwin\bin\curl.exe -O https://malbec2.bioconductor.org/BBS/3.7/bioc/src/contrib/BiocStyle_2.8.2.tar.gz && rm -rf BiocStyle.buildbin-libdir && mkdir BiocStyle.buildbin-libdir && C:\Users\biocbuild\bbs-3.7-bioc\R\bin\R.exe CMD INSTALL --merge-multiarch --build --library=BiocStyle.buildbin-libdir BiocStyle_2.8.2.tar.gz && C:\Users\biocbuild\bbs-3.7-bioc\R\bin\R.exe CMD INSTALL BiocStyle_2.8.2.zip && rm BiocStyle_2.8.2.tar.gz BiocStyle_2.8.2.zip
###
##############################################################################
##############################################################################


  % Total    % Received % Xferd  Average Speed   Time    Time     Time  Current
                                 Dload  Upload   Total   Spent    Left  Speed

  0     0    0     0    0     0      0      0 --:--:-- --:--:-- --:--:--     0
100 56933  100 56933    0     0   800k      0 --:--:-- --:--:-- --:--:--  896k

install for i386

* installing *source* package 'BiocStyle' ...
** R
** inst
** byte-compile and prepare package for lazy loading
** help
*** installing help indices
  converting help for package 'BiocStyle'
    finding HTML links ... done
    BiocStyle-defunct                       html  
    helpers                                 html  
    html_document                           html  
    latex                                   html  
    macros                                  html  
    markdown                                html  
    md_document                             html  
    output                                  html  
    pdf_document                            html  
    finding level-2 HTML links ... done

** building package indices
** installing vignettes
** testing if installed package can be loaded
In R CMD INSTALL

install for x64

* installing *source* package 'BiocStyle' ...
** testing if installed package can be loaded
* MD5 sums
packaged installation of 'BiocStyle' as BiocStyle_2.8.2.zip
* DONE (BiocStyle)
In R CMD INSTALL
In R CMD INSTALL
* installing to library 'C:/Users/biocbuild/bbs-3.7-bioc/R/library'
package 'BiocStyle' successfully unpacked and MD5 sums checked
In R CMD INSTALL