Back to Multiple platform build/check report for BioC 3.7
A[B]CDEFGHIJKLMNOPQRSTUVWXYZ

BUILD report for BBCAnalyzer on tokay2

This page was generated on 2018-07-19 10:58:31 -0400 (Thu, 19 Jul 2018).

Package 101/1560HostnameOS / ArchINSTALLBUILDCHECKBUILD BIN
BBCAnalyzer 1.10.0
Sarah Sandmann
Snapshot Date: 2018-07-18 16:45:10 -0400 (Wed, 18 Jul 2018)
URL: https://git.bioconductor.org/packages/BBCAnalyzer
Branch: RELEASE_3_7
Last Commit: 3e51470
Last Changed Date: 2018-04-30 10:35:37 -0400 (Mon, 30 Apr 2018)
malbec2 Linux (Ubuntu 16.04.1 LTS) / x86_64  OK  OK  OK UNNEEDED, same version exists in internal repository
tokay2 Windows Server 2012 R2 Standard / x64  OK [ OK ] WARNINGS  OK UNNEEDED, same version exists in internal repository
merida2 OS X 10.11.6 El Capitan / x86_64  OK  OK  OK  OK UNNEEDED, same version exists in internal repository

Summary

Package: BBCAnalyzer
Version: 1.10.0
Command: chmod a+r BBCAnalyzer -R && C:\Users\biocbuild\bbs-3.7-bioc\R\bin\R.exe CMD build --keep-empty-dirs --no-resave-data BBCAnalyzer
StartedAt: 2018-07-18 22:30:46 -0400 (Wed, 18 Jul 2018)
EndedAt: 2018-07-18 22:40:09 -0400 (Wed, 18 Jul 2018)
EllapsedTime: 563.0 seconds
RetCode: 0
Status:  OK  
PackageFile: BBCAnalyzer_1.10.0.tar.gz
PackageFileSize: 2.126 MiB

Command output

##############################################################################
##############################################################################
###
### Running command:
###
###   chmod a+r BBCAnalyzer -R && C:\Users\biocbuild\bbs-3.7-bioc\R\bin\R.exe CMD build --keep-empty-dirs --no-resave-data BBCAnalyzer
###
##############################################################################
##############################################################################


* checking for file 'BBCAnalyzer/DESCRIPTION' ... OK
* preparing 'BBCAnalyzer':
* checking DESCRIPTION meta-information ... OK
* installing the package to process help pages
* saving partial Rd database
* creating vignettes ... OK
* checking for LF line-endings in source and make files and shell scripts
* checking for empty or unneeded directories
* building 'BBCAnalyzer_1.10.0.tar.gz'