Back to Multiple platform build/check report for BioC 3.7
A[B]CDEFGHIJKLMNOPQRSTUVWXYZ

BUILD report for BAC on merida2

This page was generated on 2018-07-19 11:06:36 -0400 (Thu, 19 Jul 2018).

Package 84/1560HostnameOS / ArchINSTALLBUILDCHECKBUILD BIN
BAC 1.40.0
Raphael Gottardo
Snapshot Date: 2018-07-18 16:45:10 -0400 (Wed, 18 Jul 2018)
URL: https://git.bioconductor.org/packages/BAC
Branch: RELEASE_3_7
Last Commit: 48e4c99
Last Changed Date: 2018-04-30 10:35:08 -0400 (Mon, 30 Apr 2018)
malbec2 Linux (Ubuntu 16.04.1 LTS) / x86_64  OK  OK  OK UNNEEDED, same version exists in internal repository
tokay2 Windows Server 2012 R2 Standard / x64  OK  OK  OK  OK UNNEEDED, same version exists in internal repository
merida2 OS X 10.11.6 El Capitan / x86_64  OK [ OK ] OK  OK UNNEEDED, same version exists in internal repository

Summary

Package: BAC
Version: 1.40.0
Command: /Library/Frameworks/R.framework/Versions/Current/Resources/bin/R CMD build --keep-empty-dirs --no-resave-data BAC
StartedAt: 2018-07-18 18:51:53 -0400 (Wed, 18 Jul 2018)
EndedAt: 2018-07-18 18:51:59 -0400 (Wed, 18 Jul 2018)
EllapsedTime: 5.9 seconds
RetCode: 0
Status:  OK 
PackageFile: BAC_1.40.0.tar.gz
PackageFileSize: 971.8 KiB

Command output

##############################################################################
##############################################################################
###
### Running command:
###
###   /Library/Frameworks/R.framework/Versions/Current/Resources/bin/R CMD build --keep-empty-dirs --no-resave-data BAC
###
##############################################################################
##############################################################################


* checking for file ‘BAC/DESCRIPTION’ ... OK
* preparing ‘BAC’:
* checking DESCRIPTION meta-information ... OK
* cleaning src
* installing the package to build vignettes
* creating vignettes ... OK
* cleaning src
* checking for LF line-endings in source and make files and shell scripts
* checking for empty or unneeded directories
* looking to see if a ‘data/datalist’ file should be added
* building ‘BAC_1.40.0.tar.gz’