Back to Multiple platform build/check report for BioC 3.7
[A]BCDEFGHIJKLMNOPQRSTUVWXYZ

INSTALL report for AnnotationHubData on malbec2

This page was generated on 2018-01-19 07:10:20 -0500 (Fri, 19 Jan 2018).

Package 55/1482HostnameOS / ArchINSTALLBUILDCHECKBUILD BIN
AnnotationHubData 1.9.3
Bioconductor Package Maintainer
Snapshot Date: 2018-01-18 17:01:21 -0500 (Thu, 18 Jan 2018)
URL: https://git.bioconductor.org/packages/AnnotationHubData
Branch: master
Last Commit: cc4da5e
Last Changed Date: 2017-11-27 14:36:09 -0500 (Mon, 27 Nov 2017)
malbec2 Linux (Ubuntu 16.04.1 LTS) / x86_64 [ OK ] OK  OK UNNEEDED, same version exists in internal repository
tokay2 Windows Server 2012 R2 Standard / x64  OK  OK  OK  OK UNNEEDED, same version exists in internal repository
merida2 OS X 10.11.6 El Capitan / x86_64  OK  OK  OK  OK UNNEEDED, same version exists in internal repository

Summary

Package: AnnotationHubData
Version: 1.9.3
Command: /home/biocbuild/bbs-3.7-bioc/R/bin/R CMD INSTALL AnnotationHubData
StartedAt: 2018-01-18 18:10:49 -0500 (Thu, 18 Jan 2018)
EndedAt: 2018-01-18 18:11:05 -0500 (Thu, 18 Jan 2018)
EllapsedTime: 16.1 seconds
RetCode: 0
Status:  OK 

Command output

##############################################################################
##############################################################################
###
### Running command:
###
###   /home/biocbuild/bbs-3.7-bioc/R/bin/R CMD INSTALL AnnotationHubData
###
##############################################################################
##############################################################################


* installing to library ‘/home/biocbuild/bbs-3.7-bioc/R/library’
* installing *source* package ‘AnnotationHubData’ ...
** R
** inst
** preparing package for lazy loading
** help
*** installing help indices
** building package indices
** installing vignettes
** testing if installed package can be loaded
* DONE (AnnotationHubData)