Back to Multiple platform build/check report for BioC 3.7
[A]BCDEFGHIJKLMNOPQRSTUVWXYZ

INSTALL report for AffyExpress on tokay2

This page was generated on 2018-07-19 10:45:44 -0400 (Thu, 19 Jul 2018).

Package 22/1560HostnameOS / ArchINSTALLBUILDCHECKBUILD BIN
AffyExpress 1.46.0
Xuejun Arthur Li
Snapshot Date: 2018-07-18 16:45:10 -0400 (Wed, 18 Jul 2018)
URL: https://git.bioconductor.org/packages/AffyExpress
Branch: RELEASE_3_7
Last Commit: 2add4a4
Last Changed Date: 2018-04-30 10:35:07 -0400 (Mon, 30 Apr 2018)
malbec2 Linux (Ubuntu 16.04.1 LTS) / x86_64  OK  OK  OK UNNEEDED, same version exists in internal repository
tokay2 Windows Server 2012 R2 Standard / x64 [ OK ] OK  OK  OK UNNEEDED, same version exists in internal repository
merida2 OS X 10.11.6 El Capitan / x86_64  OK  OK  OK  OK UNNEEDED, same version exists in internal repository

Summary

Package: AffyExpress
Version: 1.46.0
Command: C:\cygwin\bin\curl.exe -O https://malbec2.bioconductor.org/BBS/3.7/bioc/src/contrib/AffyExpress_1.46.0.tar.gz && rm -rf AffyExpress.buildbin-libdir && mkdir AffyExpress.buildbin-libdir && C:\Users\biocbuild\bbs-3.7-bioc\R\bin\R.exe CMD INSTALL --merge-multiarch --build --library=AffyExpress.buildbin-libdir AffyExpress_1.46.0.tar.gz && C:\Users\biocbuild\bbs-3.7-bioc\R\bin\R.exe CMD INSTALL AffyExpress_1.46.0.zip && rm AffyExpress_1.46.0.tar.gz AffyExpress_1.46.0.zip
StartedAt: 2018-07-18 19:17:33 -0400 (Wed, 18 Jul 2018)
EndedAt: 2018-07-18 19:17:54 -0400 (Wed, 18 Jul 2018)
EllapsedTime: 21.8 seconds
RetCode: 0
Status:  OK  

Command output

##############################################################################
##############################################################################
###
### Running command:
###
###   C:\cygwin\bin\curl.exe -O https://malbec2.bioconductor.org/BBS/3.7/bioc/src/contrib/AffyExpress_1.46.0.tar.gz && rm -rf AffyExpress.buildbin-libdir && mkdir AffyExpress.buildbin-libdir && C:\Users\biocbuild\bbs-3.7-bioc\R\bin\R.exe CMD INSTALL --merge-multiarch --build --library=AffyExpress.buildbin-libdir AffyExpress_1.46.0.tar.gz && C:\Users\biocbuild\bbs-3.7-bioc\R\bin\R.exe CMD INSTALL AffyExpress_1.46.0.zip && rm AffyExpress_1.46.0.tar.gz AffyExpress_1.46.0.zip
###
##############################################################################
##############################################################################


  % Total    % Received % Xferd  Average Speed   Time    Time     Time  Current
                                 Dload  Upload   Total   Spent    Left  Speed

  0     0    0     0    0     0      0      0 --:--:-- --:--:-- --:--:--     0
 48  464k   48  224k    0     0  1953k      0 --:--:-- --:--:-- --:--:-- 2055k
100  464k  100  464k    0     0  3978k      0 --:--:-- --:--:-- --:--:-- 4188k

install for i386

* installing *source* package 'AffyExpress' ...
** R
** data
** byte-compile and prepare package for lazy loading
** help
*** installing help indices
  converting help for package 'AffyExpress'
    finding HTML links ... done
    AffyInteraction                         html  
    AffyQA                                  html  
    AffyRegress                             html  
    Filter                                  html  
    import.data                             html  
    interaction.result2html                 html  
    make.contrast                           html  
    make.design                             html  
    post.interaction                        html  
    pre.process                             html  
    regress                                 html  
    result2html                             html  
    select.sig.gene                         html  
    testData                                html  
** building package indices
** installing vignettes
** testing if installed package can be loaded
In R CMD INSTALL

install for x64

* installing *source* package 'AffyExpress' ...
** testing if installed package can be loaded
* MD5 sums
packaged installation of 'AffyExpress' as AffyExpress_1.46.0.zip
* DONE (AffyExpress)
In R CMD INSTALL
In R CMD INSTALL
* installing to library 'C:/Users/biocbuild/bbs-3.7-bioc/R/library'
package 'AffyExpress' successfully unpacked and MD5 sums checked
In R CMD INSTALL