Back to Multiple platform build/check report for BioC 3.7
[A]BCDEFGHIJKLMNOPQRSTUVWXYZ

BUILD BIN report for ASSET on merida2

This page was generated on 2018-07-19 11:11:21 -0400 (Thu, 19 Jul 2018).

Package 78/1560HostnameOS / ArchINSTALLBUILDCHECKBUILD BIN
ASSET 1.98.0
Samsiddhi Bhattacharjee
Snapshot Date: 2018-07-18 16:45:10 -0400 (Wed, 18 Jul 2018)
URL: https://git.bioconductor.org/packages/ASSET
Branch: RELEASE_3_7
Last Commit: 24e9cb5
Last Changed Date: 2018-06-12 03:17:04 -0400 (Tue, 12 Jun 2018)
malbec2 Linux (Ubuntu 16.04.1 LTS) / x86_64  OK  OK  WARNINGS UNNEEDED, same version exists in internal repository
tokay2 Windows Server 2012 R2 Standard / x64  OK  OK  WARNINGS  OK UNNEEDED, same version exists in internal repository
merida2 OS X 10.11.6 El Capitan / x86_64  OK  OK  WARNINGS [ OK ]UNNEEDED, same version exists in internal repository

Summary

Package: ASSET
Version: 1.98.0
Command: rm -rf ASSET.buildbin-libdir && mkdir ASSET.buildbin-libdir && /Users/biocbuild/BBS/utils/build-universal.sh ASSET_1.98.0.tar.gz /Library/Frameworks/R.framework/Versions/Current/Resources/bin/R ASSET.buildbin-libdir
StartedAt: 2018-07-19 03:03:20 -0400 (Thu, 19 Jul 2018)
EndedAt: 2018-07-19 03:04:02 -0400 (Thu, 19 Jul 2018)
EllapsedTime: 42.0 seconds
RetCode: 0
Status:  OK 
PackageFile: ASSET_1.98.0.tgz
PackageFileSize: 362.9 KiB

Command output

##############################################################################
##############################################################################
###
### Running command:
###
###   rm -rf ASSET.buildbin-libdir && mkdir ASSET.buildbin-libdir && /Users/biocbuild/BBS/utils/build-universal.sh ASSET_1.98.0.tar.gz /Library/Frameworks/R.framework/Versions/Current/Resources/bin/R ASSET.buildbin-libdir
###
##############################################################################
##############################################################################


>>>>>>> 
>>>>>>> INSTALLATION WITH 'R CMD INSTALL --preclean --no-multiarch --library=ASSET.buildbin-libdir ASSET_1.98.0.tar.gz'
>>>>>>> 

* installing *source* package ‘ASSET’ ...
** R
** data
** inst
** byte-compile and prepare package for lazy loading
** help
*** installing help indices
** building package indices
** installing vignettes
** testing if installed package can be loaded
* DONE (ASSET)