Back to Multiple platform build/check report for BioC 3.7
[A]BCDEFGHIJKLMNOPQRSTUVWXYZ

BUILD report for AMOUNTAIN on merida2

This page was generated on 2018-07-19 11:16:29 -0400 (Thu, 19 Jul 2018).

Package 40/1560HostnameOS / ArchINSTALLBUILDCHECKBUILD BIN
AMOUNTAIN 1.6.0
Dong Li
Snapshot Date: 2018-07-18 16:45:10 -0400 (Wed, 18 Jul 2018)
URL: https://git.bioconductor.org/packages/AMOUNTAIN
Branch: RELEASE_3_7
Last Commit: 09e40a1
Last Changed Date: 2018-04-30 10:35:43 -0400 (Mon, 30 Apr 2018)
malbec2 Linux (Ubuntu 16.04.1 LTS) / x86_64  OK  OK  OK UNNEEDED, same version exists in internal repository
tokay2 Windows Server 2012 R2 Standard / x64  OK  OK  OK  OK UNNEEDED, same version exists in internal repository
merida2 OS X 10.11.6 El Capitan / x86_64  OK [ OK ] OK  OK UNNEEDED, same version exists in internal repository

Summary

Package: AMOUNTAIN
Version: 1.6.0
Command: /Library/Frameworks/R.framework/Versions/Current/Resources/bin/R CMD build --keep-empty-dirs --no-resave-data AMOUNTAIN
StartedAt: 2018-07-18 20:40:34 -0400 (Wed, 18 Jul 2018)
EndedAt: 2018-07-18 20:41:06 -0400 (Wed, 18 Jul 2018)
EllapsedTime: 32.2 seconds
RetCode: 0
Status:  OK 
PackageFile: AMOUNTAIN_1.6.0.tar.gz
PackageFileSize: 1.958 MiB

Command output

##############################################################################
##############################################################################
###
### Running command:
###
###   /Library/Frameworks/R.framework/Versions/Current/Resources/bin/R CMD build --keep-empty-dirs --no-resave-data AMOUNTAIN
###
##############################################################################
##############################################################################


* checking for file ‘AMOUNTAIN/DESCRIPTION’ ... OK
* preparing ‘AMOUNTAIN’:
* checking DESCRIPTION meta-information ... OK
* cleaning src
* installing the package to build vignettes
* creating vignettes ... OK
Warning: ‘inst/doc’ files
    ‘AMOUNTAIN.Rmd’, ‘AMOUNTAIN.html’
  ignored as vignettes have been rebuilt.
  Run R CMD build with --no-build-vignettes to prevent rebuilding.
* cleaning src
* checking for LF line-endings in source and make files and shell scripts
* checking for empty or unneeded directories
* building ‘AMOUNTAIN_1.6.0.tar.gz’