Back to Multiple platform build/check report for BioC 3.7
[A]BCDEFGHIJKLMNOPQRSTUVWXYZ

INSTALL report for ABarray on tokay2

This page was generated on 2018-04-21 09:17:02 -0400 (Sat, 21 Apr 2018).

Package 8/1551HostnameOS / ArchINSTALLBUILDCHECKBUILD BIN
ABarray 1.47.0
Yongming Andrew Sun
Snapshot Date: 2018-04-20 16:45:23 -0400 (Fri, 20 Apr 2018)
URL: https://git.bioconductor.org/packages/ABarray
Branch: master
Last Commit: f22cdbd
Last Changed Date: 2017-10-30 12:52:06 -0400 (Mon, 30 Oct 2017)
malbec2 Linux (Ubuntu 16.04.1 LTS) / x86_64  OK  OK  OK UNNEEDED, same version exists in internal repository
tokay2 Windows Server 2012 R2 Standard / x64 [ OK ] OK  OK  OK UNNEEDED, same version exists in internal repository
merida2 OS X 10.11.6 El Capitan / x86_64  OK  OK  OK  OK UNNEEDED, same version exists in internal repository

Summary

Package: ABarray
Version: 1.47.0
Command: C:\cygwin\bin\curl.exe -O https://malbec2.bioconductor.org/BBS/3.7/bioc/src/contrib/ABarray_1.47.0.tar.gz && rm -rf ABarray.buildbin-libdir && mkdir ABarray.buildbin-libdir && C:\Users\biocbuild\bbs-3.7-bioc\R\bin\R.exe CMD INSTALL --merge-multiarch --build --library=ABarray.buildbin-libdir ABarray_1.47.0.tar.gz && C:\Users\biocbuild\bbs-3.7-bioc\R\bin\R.exe CMD INSTALL ABarray_1.47.0.zip && rm ABarray_1.47.0.tar.gz ABarray_1.47.0.zip
StartedAt: 2018-04-20 19:11:25 -0400 (Fri, 20 Apr 2018)
EndedAt: 2018-04-20 19:11:53 -0400 (Fri, 20 Apr 2018)
EllapsedTime: 28.0 seconds
RetCode: 0
Status:  OK  

Command output

##############################################################################
##############################################################################
###
### Running command:
###
###   C:\cygwin\bin\curl.exe -O https://malbec2.bioconductor.org/BBS/3.7/bioc/src/contrib/ABarray_1.47.0.tar.gz && rm -rf ABarray.buildbin-libdir && mkdir ABarray.buildbin-libdir && C:\Users\biocbuild\bbs-3.7-bioc\R\bin\R.exe CMD INSTALL --merge-multiarch --build --library=ABarray.buildbin-libdir ABarray_1.47.0.tar.gz && C:\Users\biocbuild\bbs-3.7-bioc\R\bin\R.exe CMD INSTALL ABarray_1.47.0.zip && rm ABarray_1.47.0.tar.gz ABarray_1.47.0.zip
###
##############################################################################
##############################################################################


  % Total    % Received % Xferd  Average Speed   Time    Time     Time  Current
                                 Dload  Upload   Total   Spent    Left  Speed

  0     0    0     0    0     0      0      0 --:--:-- --:--:-- --:--:--     0
  0  122k    0     0    0     0      0      0 --:--:--  0:00:01 --:--:--     0
100  122k  100  122k    0     0   117k      0  0:00:01  0:00:01 --:--:--  118k

install for i386

* installing *source* package 'ABarray' ...
** R
** byte-compile and prepare package for lazy loading
** help
*** installing help indices
  converting help for package 'ABarray'
    finding HTML links ... done
    ABarray                                 html  
    ABarrayGUI                              html  
    calcsn                                  html  
    concord                                 html  
    cvv                                     html  
    cvvPlot                                 html  
    doANOVA                                 html  
    doLPE                                   html  
    doPlotEset                              html  
    doPlotFCT                               html  
    doVennDiagram                           html  
    drawVennDiagram                         html  
    getMemberEset                           html  
    getPantherMap                           html  
    hclusterPlot                            html  
    icpPlot                                 html  
    imputeFlag                              html  
    lpe.fdr.BH                              html  
    mamaplot                                html  
    matrixPlot                              html  
    mvaPair2                                html  
    panel.cor                               html  
    panel.scatter                           html  
    qnNormalize                             html  
    rgcolorsfunc                            html  
    savejpg                                 html  
    scaleColorBar                           html  
    snSummary                               html  
** building package indices
** installing vignettes
** testing if installed package can be loaded
In R CMD INSTALL

install for x64

* installing *source* package 'ABarray' ...
** testing if installed package can be loaded
* MD5 sums
packaged installation of 'ABarray' as ABarray_1.47.0.zip
* DONE (ABarray)
In R CMD INSTALL
In R CMD INSTALL
* installing to library 'C:/Users/biocbuild/bbs-3.7-bioc/R/library'
package 'ABarray' successfully unpacked and MD5 sums checked
In R CMD INSTALL