Back to Multiple platform build/check report for BioC 3.7
[A]BCDEFGHIJKLMNOPQRSTUVWXYZ

BUILD report for ABarray on malbec2

This page was generated on 2018-07-19 10:30:34 -0400 (Thu, 19 Jul 2018).

Package 8/1560HostnameOS / ArchINSTALLBUILDCHECKBUILD BIN
ABarray 1.48.0
Yongming Andrew Sun
Snapshot Date: 2018-07-18 16:45:10 -0400 (Wed, 18 Jul 2018)
URL: https://git.bioconductor.org/packages/ABarray
Branch: RELEASE_3_7
Last Commit: 81a5feb
Last Changed Date: 2018-04-30 10:35:05 -0400 (Mon, 30 Apr 2018)
malbec2 Linux (Ubuntu 16.04.1 LTS) / x86_64  OK [ OK ] OK UNNEEDED, same version exists in internal repository
tokay2 Windows Server 2012 R2 Standard / x64  OK  OK  OK  OK UNNEEDED, same version exists in internal repository
merida2 OS X 10.11.6 El Capitan / x86_64  OK  OK  OK  OK UNNEEDED, same version exists in internal repository

Summary

Package: ABarray
Version: 1.48.0
Command: /home/biocbuild/bbs-3.7-bioc/R/bin/R CMD build --keep-empty-dirs --no-resave-data ABarray
StartedAt: 2018-07-18 18:50:05 -0400 (Wed, 18 Jul 2018)
EndedAt: 2018-07-18 18:50:15 -0400 (Wed, 18 Jul 2018)
EllapsedTime: 9.8 seconds
RetCode: 0
Status:  OK 
PackageFile: ABarray_1.48.0.tar.gz
PackageFileSize: 555.5 KiB

Command output

##############################################################################
##############################################################################
###
### Running command:
###
###   /home/biocbuild/bbs-3.7-bioc/R/bin/R CMD build --keep-empty-dirs --no-resave-data ABarray
###
##############################################################################
##############################################################################


* checking for file ‘ABarray/DESCRIPTION’ ... OK
* preparing ‘ABarray’:
* checking DESCRIPTION meta-information ... OK
* installing the package to build vignettes
* creating vignettes ... OK
Warning: ‘inst/doc’ file
    ‘ABarrayGUI.R’
  ignored as vignettes have been rebuilt.
  Run R CMD build with --no-build-vignettes to prevent rebuilding.
* checking for LF line-endings in source and make files and shell scripts
* checking for empty or unneeded directories
* building ‘ABarray_1.48.0.tar.gz’