Back to Multiple platform build/check report for BioC 3.6 experimental data |
This page was generated on 2018-04-12 12:49:15 -0400 (Thu, 12 Apr 2018).
Package 217/326 | Hostname | OS / Arch | INSTALL | BUILD | CHECK | BUILD BIN | ||||||
pasilla 1.6.0 Alejandro Reyes
| malbec1 | Linux (Ubuntu 16.04.1 LTS) / x86_64 | [ OK ] | OK | OK |
Package: pasilla |
Version: 1.6.0 |
Command: /home/biocbuild/bbs-3.6-bioc/R/bin/R CMD INSTALL pasilla |
StartedAt: 2018-04-12 08:55:57 -0400 (Thu, 12 Apr 2018) |
EndedAt: 2018-04-12 08:56:20 -0400 (Thu, 12 Apr 2018) |
EllapsedTime: 22.6 seconds |
RetCode: 0 |
Status: OK |
############################################################################## ############################################################################## ### ### Running command: ### ### /home/biocbuild/bbs-3.6-bioc/R/bin/R CMD INSTALL pasilla ### ############################################################################## ############################################################################## * installing to library ‘/home/biocbuild/bbs-3.6-bioc/R/library’ * installing *source* package ‘pasilla’ ... ** data ** inst ** help *** installing help indices ** building package indices ** installing vignettes ** testing if installed package can be loaded * DONE (pasilla)