Index of /checkResults/3.20/workflows-LATEST/spicyWorkflow/raw-results/palomino6
Name
Last modified
Size
Description
Parent Directory
-
buildsrc-out.txt
10-Jul-2024 05:30
1.2K
buildsrc-summary.dcf
10-Jul-2024 05:30
393
install-out.txt
10-Jul-2024 05:30
1.0K
install-summary.dcf
10-Jul-2024 05:30
285