Index of /checkResults/3.20/workflows-LATEST/spicyWorkflow/raw-results/merida1
Name
Last modified
Size
Description
Parent Directory
-
install-summary.dcf
12-Jun-2024 05:30
279
buildsrc-summary.dcf
12-Jun-2024 05:30
354
install-out.txt
12-Jun-2024 05:30
1.0K
buildsrc-out.txt
12-Jun-2024 05:30
1.1K