Index of /checkResults/3.20/workflows-LATEST/GeoMxWorkflows/raw-results/palomino4
Name
Last modified
Size
Description
Parent Directory
-
buildsrc-out.txt
12-Jun-2024 05:30
874
buildsrc-summary.dcf
12-Jun-2024 05:30
482
install-out.txt
15-Jun-2024 05:30
1.0K
install-summary.dcf
15-Jun-2024 05:30
282