Index of /checkResults/3.20/workflows-LATEST/GeoMxWorkflows/raw-results/nebbiolo2
Name
Last modified
Size
Description
Parent Directory
-
install-summary.dcf
10-Jul-2024 05:30
273
buildsrc-out.txt
10-Jul-2024 05:30
834
buildsrc-summary.dcf
10-Jul-2024 05:30
440
install-out.txt
10-Jul-2024 05:30
968