Index of /checkResults/3.20/data-experiment-LATEST/SomatiCAData/raw-results
Name
Last modified
Size
Description
Parent Directory
-
nebbiolo2/
24-Jul-2024 03:51
-
info.dcf
24-Jul-2024 03:51
275