Build/check report for BioC 3.20 annotations

This page was generated on 2024-07-24 08:30 -0400 (Wed, 24 Jul 2024).

Approx. Package Snapshot Date/Time (git pull): 2024-07-24 06:00 -0400 (Wed, 24 Jul 2024)
See this page for all the Bioconductor builds and their schedule.

HostnameOSArch (*)R versionInstalled pkgs
nebbiolo2Linux (Ubuntu 22.04.3 LTS)x86_644.4.1 (2024-06-14) -- "Race for Your Life" 4688
Click on any hostname to see more info about the system (e.g. compilers)      (*) as reported by 'uname -p', except on Windows and Mac OS X

Package status is indicated by one of the following glyphs
  TIMEOUT  
INSTALL, BUILD or CHECK of package took more than 40 minutes
  ERROR  
Bad DESCRIPTION file, or INSTALL or BUILD of package failed, or CHECK produced errors
  WARNINGS  
CHECK of package produced warnings
  OK  
INSTALL, BUILD or CHECK of package went OK
  NA  
INSTALL, BUILD or CHECK result is not available because of an anomaly in the Build System
skipped
CHECK of package was skipped because the BUILD step failed
Click on any glyph in the report below to access the detailed report.
Package propagation status is indicated by one of the following LEDs
YES YES: Package was propagated because it didn't previously exist or version was bumped
NO NO: Package was not propagated because of a problem (impossible dependencies, or version lower than what is already propagated)
UNNEEDED UNNEEDED: Package was not propagated because it is already in the repository with this version. A version bump is required in order to propagate it

A crossed-out package name indicates the package is deprecated


QUICK STATSOS / ArchINSTALLBUILDCHECK
nebbiolo2Linux (Ubuntu 22.04.3 LTS) / x86_64
0145
0343
09232
A
ABCDEFGHIJKLMNOPQRSTUVWXYZ
PackageMaintainerINSTALLBUILDCHECK
1/46AHCytoBands 0.99.1  (landing page)Michael Lawrence  OK    OK    OK  UNNEEDED, same version is already published
2/46AHEnsDbs 1.5.1  (landing page)Johannes Rainer  OK    OK    OK  UNNEEDED, same version is already published
3/46AHLRBaseDbs 1.8.0  (landing page)Koki Tsuyuzaki  OK    OK    OK  UNNEEDED, same version is already published
4/46AHMeSHDbs 1.8.0  (landing page)Koki Tsuyuzaki  OK    OK    OK  UNNEEDED, same version is already published
5/46AHPathbankDbs 0.99.5  (landing page)Kozo Nishida  OK    OK    OK  UNNEEDED, same version is already published
6/46AHPubMedDbs 1.8.0  (landing page)Koki Tsuyuzaki  OK    OK    OK  UNNEEDED, same version is already published
7/46AHWikipathwaysDbs 0.99.4  (landing page)Kozo Nishida  OK    OK    OK  UNNEEDED, same version is already published
8/46AlphaMissense.v2023.hg19 3.18.2  (landing page)Robert Castelo  OK    OK    OK  UNNEEDED, same version is already published
9/46AlphaMissense.v2023.hg38 3.18.2  (landing page)Robert Castelo  OK    OK    OK  UNNEEDED, same version is already published
10/46alternativeSplicingEvents.hg19 1.1.0  (landing page)Nuno Agostinho  OK    OK    OK  UNNEEDED, same version is already published
11/46alternativeSplicingEvents.hg38 1.1.0  (landing page)Nuno Agostinho  OK    OK    OK  UNNEEDED, same version is already published
B
ABCDEFGHIJKLMNOPQRSTUVWXYZ
PackageMaintainerINSTALLBUILDCHECK
12/46BioMartGOGeneSets 0.99.11  (landing page)Zuguang Gu  OK    OK    OK  UNNEEDED, same version is already published
C
ABCDEFGHIJKLMNOPQRSTUVWXYZ
PackageMaintainerINSTALLBUILDCHECK
13/46cadd.v1.6.hg19 3.18.1  (landing page)Robert Castelo  OK    OK    OK  UNNEEDED, same version is already published
14/46cadd.v1.6.hg38 3.18.1  (landing page)Robert Castelo  OK    OK    OK  UNNEEDED, same version is already published
15/46chromhmmData 0.99.2  (landing page)Mahmoud Ahmed  OK    OK    OK  UNNEEDED, same version is already published
16/46CTCF 0.99.11  (landing page)Mikhail Dozmorov  OK    OK    OK  UNNEEDED, same version is already published
E
ABCDEFGHIJKLMNOPQRSTUVWXYZ
PackageMaintainerINSTALLBUILDCHECK
17/46ENCODExplorerData 0.99.5  (landing page)Eric Fournier  OK    OK    OK  UNNEEDED, same version is already published
18/46EPICv2manifest 0.99.7  (landing page)Tim Peters  OK    OK    OK  UNNEEDED, same version is already published
19/46EpiTxDb.Hs.hg38 0.99.7  (landing page)Felix G.M. Ernst  OK    OK    OK  UNNEEDED, same version is already published
20/46EpiTxDb.Mm.mm10 0.99.6  (landing page)Felix G.M. Ernst  OK    OK    OK  UNNEEDED, same version is already published
21/46EpiTxDb.Sc.sacCer3 0.99.5  (landing page)Felix G.M. Ernst  OK    OK    OK  UNNEEDED, same version is already published
22/46EuPathDB 1.0.1  (landing page)Keith Hughitt  OK    ERROR  skipped
23/46excluderanges 0.99.8  (landing page)Mikhail Dozmorov  OK    ERROR  skipped
G
ABCDEFGHIJKLMNOPQRSTUVWXYZ
PackageMaintainerINSTALLBUILDCHECK
24/46geneplast.data 0.99.9  (landing page)Leonardo Campos  OK    OK    OK  UNNEEDED, same version is already published
25/46GeneSummary 0.99.6  (landing page)Zuguang Gu  OK    OK    OK  UNNEEDED, same version is already published
26/46GenomicState 0.99.15  (landing page)Leonardo Collado-Torres  OK    OK    ERROR  
27/46gwascatData 0.99.6  (landing page)Sara Stankiewicz  OK    OK    ERROR  
H
ABCDEFGHIJKLMNOPQRSTUVWXYZ
PackageMaintainerINSTALLBUILDCHECK
28/46hpAnnot 1.1.0  (landing page)Marta R. Hidalgo  OK    OK    ERROR  
29/46HPO.db 0.99.2  (landing page)Erqiang Hu  OK    OK    OK  UNNEEDED, same version is already published
J
ABCDEFGHIJKLMNOPQRSTUVWXYZ
PackageMaintainerINSTALLBUILDCHECK
30/46JASPAR2020 0.99.8  (landing page)Damir Baranasic  OK    OK    ERROR  
31/46JASPAR2022 0.99.8  (landing page)Damir Baranasic  OK    OK    OK  UNNEEDED, same version is already published
32/46JASPAR2024 0.99.6  (landing page)Damir Baranasic  OK    OK    OK  UNNEEDED, same version is already published
M
ABCDEFGHIJKLMNOPQRSTUVWXYZ
PackageMaintainerINSTALLBUILDCHECK
33/46metaboliteIDmapping 0.99.10  (landing page)Sebastian Canzler  OK    OK    ERROR  
34/46MPO.db 0.99.7  (landing page)Erqiang Hu  ERROR    OK    ERROR  
O
ABCDEFGHIJKLMNOPQRSTUVWXYZ
PackageMaintainerINSTALLBUILDCHECK
35/46ontoProcData 0.99.9904  (landing page)Sara Stankiewicz  OK    OK    ERROR  
36/46org.Mxanthus.db 1.0.27  (landing page)Eduardo Illueca Fern├índez  OK    OK    WARNINGS  UNNEEDED, same version is already published
P
ABCDEFGHIJKLMNOPQRSTUVWXYZ
PackageMaintainerINSTALLBUILDCHECK
37/46PANTHER.db 1.0.12  (landing page)Julius Muller  OK    OK    OK  UNNEEDED, same version is already published
38/46phastCons30way.UCSC.hg38 3.13.0  (landing page)Robert Castelo  OK    OK    ERROR  
R
ABCDEFGHIJKLMNOPQRSTUVWXYZ
PackageMaintainerINSTALLBUILDCHECK
39/46rat2302frmavecs 0.99.11  (landing page)Sylvain Gubian  OK    OK    OK  UNNEEDED, same version is already published
40/46rGenomeTracksData 0.99.0  (landing page)Omar Elashkar  OK    OK    OK  UNNEEDED, same version is already published
S
ABCDEFGHIJKLMNOPQRSTUVWXYZ
PackageMaintainerINSTALLBUILDCHECK
41/46scAnnotatR.models 0.99.10  (landing page)Johannes Griss  OK    ERROR  skipped
42/46SomaScan.db 0.99.10  (landing page)Amanda Hiser  OK    OK    OK  UNNEEDED, same version is already published
43/46synaptome.data 0.99.6  (landing page)Oksana Sorokina  OK    OK    OK  UNNEEDED, same version is already published
44/46synaptome.db 0.99.16  (landing page)Oksana Sorokina  OK    OK    WARNINGS  UNNEEDED, same version is already published
U
ABCDEFGHIJKLMNOPQRSTUVWXYZ
PackageMaintainerINSTALLBUILDCHECK
45/46UCSCRepeatMasker 3.17.3  (landing page)Robert Castelo  OK    OK    ERROR  
46/46UniProtKeywords 0.99.7  (landing page)Zuguang Gu  OK    OK    OK  UNNEEDED, same version is already published