Index of /checkResults/3.20/bioc-longtests-LATEST/xcms/raw-results
Name
Last modified
Size
Description
Parent Directory
-
palomino6/
07-Jul-2024 12:55
-
palomino4/
16-Jun-2024 12:55
-
nebbiolo2/
22-Jul-2024 12:57
-
merida1/
09-Jun-2024 12:55
-
lconway/
22-Jul-2024 12:57
-
info.dcf
22-Jul-2024 12:57
262