Index of /checkResults/3.20/bioc-longtests-LATEST/rhdf5/raw-results/lconway
Name
Last modified
Size
Description
Parent Directory
-
checksrc-out.txt
22-Jul-2024 12:57
3.8K
checksrc-summary.dcf
22-Jul-2024 12:57
432