Index of /checkResults/3.20/bioc-longtests-LATEST/ginmappeR/raw-results/palomino4
Name
Last modified
Size
Description
Parent Directory
-
checksrc-summary.dcf
16-Jun-2024 12:55
459
checksrc-out.txt
16-Jun-2024 12:55
3.3K