Index of /checkResults/3.20/bioc-longtests-LATEST/crisprScore/raw-results/merida1
Name
Last modified
Size
Description
Parent Directory
-
checksrc-out.txt
09-Jun-2024 12:55
5.3K
checksrc-summary.dcf
09-Jun-2024 12:55
453