Index of /checkResults/3.20/bioc-longtests-LATEST/biodbKegg/raw-results/palomino6
Name
Last modified
Size
Description
Parent Directory
-
checksrc-summary.dcf
07-Jul-2024 12:55
471
checksrc-out.txt
07-Jul-2024 12:55
3.6K