Index of /checkResults/3.20/bioc-longtests-LATEST/biodbHmdb/raw-results/nebbiolo2
Name
Last modified
Size
Description
Parent Directory
-
checksrc-out.txt
30-Jun-2024 12:55
3.8K
checksrc-summary.dcf
30-Jun-2024 12:55
441