Index of /checkResults/3.20/bioc-longtests-LATEST/biodbChebi/raw-results/palomino6
Name
Last modified
Size
Description
Parent Directory
-
checksrc-out.txt
07-Jul-2024 12:55
2.9K
checksrc-summary.dcf
07-Jul-2024 12:55
470