Index of /checkResults/3.20/bioc-longtests-LATEST/autonomics/raw-results/nebbiolo2
Name
Last modified
Size
Description
Parent Directory
-
checksrc-out.txt
22-Jul-2024 12:57
5.3K
checksrc-summary.dcf
22-Jul-2024 12:57
444