Index of /checkResults/3.20/bioc-longtests-LATEST/SimBu/raw-results/lconway
Name
Last modified
Size
Description
Parent Directory
-
checksrc-summary.dcf
22-Jul-2024 12:57
431
checksrc-out.txt
22-Jul-2024 12:57
3.5K