Index of /checkResults/3.20/bioc-longtests-LATEST/MungeSumstats/raw-results/merida1
Name
Last modified
Size
Description
Parent Directory
-
checksrc-summary.dcf
09-Jun-2024 12:55
458
checksrc-out.txt
09-Jun-2024 12:55
7.1K