Index of /checkResults/3.20/bioc-longtests-LATEST/ChromSCape/raw-results/palomino6
Name
Last modified
Size
Description
Parent Directory
-
checksrc-summary.dcf
07-Jul-2024 12:55
474
checksrc-out.txt
07-Jul-2024 12:55
8.0K