Index of /checkResults/3.20/bioc-longtests-LATEST/ChromSCape/raw-results/palomino4
Name
Last modified
Size
Description
Parent Directory
-
checksrc-summary.dcf
16-Jun-2024 12:55
469
checksrc-out.txt
16-Jun-2024 12:55
7.9K