Index of /checkResults/3.20/bioc-longtests-LATEST/ChromSCape/raw-results/lconway
Name
Last modified
Size
Description
Parent Directory
-
checksrc-out.txt
22-Jul-2024 12:57
8.0K
checksrc-summary.dcf
22-Jul-2024 12:57
452