Index of /checkResults/3.20/bioc-longtests-LATEST/APAlyzer/raw-results/nebbiolo2
Name
Last modified
Size
Description
Parent Directory
-
checksrc-summary.dcf
22-Jul-2024 12:57
436
checksrc-out.txt
22-Jul-2024 12:57
5.1K