Long Tests report for BioC 3.20

See here for how to subscribe to these builds.

This page was generated on 2024-07-21 23:57 -0400 (Sun, 21 Jul 2024).

Approx. Package Snapshot Date/Time (git pull): 2024-07-20 09:55 -0400 (Sat, 20 Jul 2024)
See this page for all the Bioconductor builds and their schedule.

HostnameOSArch (*)R versionInstalled pkgs
nebbiolo2Linux (Ubuntu 22.04.3 LTS)x86_644.4.1 (2024-06-14) -- "Race for Your Life" 4688
lconwaymacOS 12.7.1 Montereyx86_644.4.1 (2024-06-14) -- "Race for Your Life" 4455
Click on any hostname to see more info about the system (e.g. compilers)      (*) as reported by 'uname -p', except on Windows and Mac OS X

Package status is indicated by one of the following glyphs
  TIMEOUT  
CHECK of package took more than 360 minutes
  ERROR  
Bad DESCRIPTION file, or CHECK of package produced errors
  WARNINGS  
CHECK of package produced warnings
  OK  
CHECK of package went OK
  NA  
CHECK result is not available because of an anomaly in the Build System
skipped
CHECK of package was skipped because the BUILD step failed
Click on any glyph in the report below to access the detailed report.

QUICK STATSOS / ArchCHECK
nebbiolo2Linux (Ubuntu 22.04.3 LTS) / x86_64
011318
lconwaymacOS 12.7.1 Monterey / x86_64
012317
Package 1/32HostnameOS / ArchCHECK
APAlyzer 1.19.0  (landing page)
Ruijia Wang
git_last_commit: efcd08d
git_last_commit_date: 2024-04-30 11:16:25 -0400
nebbiolo2Linux (Ubuntu 22.04.3 LTS) / x86_64  ERROR  
lconwaymacOS 12.7.1 Monterey / x86_64  ERROR  
Package 2/32HostnameOS / ArchCHECK
autonomics 1.13.21  (landing page)
Aditya Bhagwat
git_last_commit: 0244d64
git_last_commit_date: 2024-07-08 09:42:37 -0400
nebbiolo2Linux (Ubuntu 22.04.3 LTS) / x86_64  ERROR  
lconwaymacOS 12.7.1 Monterey / x86_64  ERROR  
Package 3/32HostnameOS / ArchCHECK
basilisk 1.17.0  (landing page)
Aaron Lun
git_last_commit: 1539ded
git_last_commit_date: 2024-04-30 11:20:50 -0400
nebbiolo2Linux (Ubuntu 22.04.3 LTS) / x86_64  OK  
lconwaymacOS 12.7.1 Monterey / x86_64  OK  
Package 4/32HostnameOS / ArchCHECK
beachmat 2.21.4  (landing page)
Aaron Lun
git_last_commit: 9aadd65
git_last_commit_date: 2024-07-11 18:53:48 -0400
nebbiolo2Linux (Ubuntu 22.04.3 LTS) / x86_64  ERROR  
lconwaymacOS 12.7.1 Monterey / x86_64  ERROR  
Package 5/32HostnameOS / ArchCHECK
biodb 1.13.0  (landing page)
Pierrick Roger
git_last_commit: e265a9a
git_last_commit_date: 2024-04-30 11:34:11 -0400
nebbiolo2Linux (Ubuntu 22.04.3 LTS) / x86_64  WARNINGS  
lconwaymacOS 12.7.1 Monterey / x86_64  OK  
Package 6/32HostnameOS / ArchCHECK
biodbChebi 1.11.0  (landing page)
Pierrick Roger
git_last_commit: dfe3f6c
git_last_commit_date: 2024-04-30 11:37:31 -0400
nebbiolo2Linux (Ubuntu 22.04.3 LTS) / x86_64  OK  
lconwaymacOS 12.7.1 Monterey / x86_64  OK  
Package 7/32HostnameOS / ArchCHECK
biodbExpasy 1.9.0  (landing page)
Pierrick Roger
git_last_commit: 25fc0fc
git_last_commit_date: 2024-04-30 11:41:12 -0400
nebbiolo2Linux (Ubuntu 22.04.3 LTS) / x86_64  ERROR  
lconwaymacOS 12.7.1 Monterey / x86_64  ERROR  
Package 8/32HostnameOS / ArchCHECK
biodbHmdb 1.11.0  (landing page)
Pierrick Roger
git_last_commit: c3d59a4
git_last_commit_date: 2024-04-30 11:39:05 -0400
nebbiolo2Linux (Ubuntu 22.04.3 LTS) / x86_64  WARNINGS  
lconwaymacOS 12.7.1 Monterey / x86_64  ERROR  
Package 9/32HostnameOS / ArchCHECK
biodbKegg 1.11.0  (landing page)
Pierrick Roger
git_last_commit: 2d13b73
git_last_commit_date: 2024-04-30 11:38:33 -0400
nebbiolo2Linux (Ubuntu 22.04.3 LTS) / x86_64  ERROR  
lconwaymacOS 12.7.1 Monterey / x86_64  ERROR  
Package 10/32HostnameOS / ArchCHECK
biodbNcbi 1.9.0  (landing page)
Pierrick Roger
git_last_commit: 347e93f
git_last_commit_date: 2024-04-30 11:41:09 -0400
nebbiolo2Linux (Ubuntu 22.04.3 LTS) / x86_64  ERROR  
lconwaymacOS 12.7.1 Monterey / x86_64  WARNINGS  
Package 11/32HostnameOS / ArchCHECK
biodbNci 1.9.0  (landing page)
Pierrick Roger
git_last_commit: 12acfea
git_last_commit_date: 2024-04-30 11:41:04 -0400
nebbiolo2Linux (Ubuntu 22.04.3 LTS) / x86_64  OK  
lconwaymacOS 12.7.1 Monterey / x86_64  OK  
Package 12/32HostnameOS / ArchCHECK
biodbUniprot 1.11.0  (landing page)
Pierrick Roger
git_last_commit: c58cfad
git_last_commit_date: 2024-04-30 11:38:08 -0400
nebbiolo2Linux (Ubuntu 22.04.3 LTS) / x86_64  OK  
lconwaymacOS 12.7.1 Monterey / x86_64  OK  
Package 13/32HostnameOS / ArchCHECK
cBioPortalData 2.17.0  (landing page)
Marcel Ramos
git_last_commit: b171bcd
git_last_commit_date: 2024-04-30 11:24:11 -0400
nebbiolo2Linux (Ubuntu 22.04.3 LTS) / x86_64  OK  
lconwaymacOS 12.7.1 Monterey / x86_64  ERROR  
Package 14/32HostnameOS / ArchCHECK
ChromSCape 1.15.0  (landing page)
Pacome Prompsy
git_last_commit: f4aa771
git_last_commit_date: 2024-04-30 11:27:46 -0400
nebbiolo2Linux (Ubuntu 22.04.3 LTS) / x86_64  ERROR  
lconwaymacOS 12.7.1 Monterey / x86_64  ERROR  
Package 15/32HostnameOS / ArchCHECK
clusterExperiment 2.25.0  (landing page)
Elizabeth Purdom
git_last_commit: b9692d8
git_last_commit_date: 2024-04-30 10:52:11 -0400
nebbiolo2Linux (Ubuntu 22.04.3 LTS) / x86_64  ERROR  
lconwaymacOS 12.7.1 Monterey / x86_64  ERROR  
Package 16/32HostnameOS / ArchCHECK
CRISPRball 1.1.0  (landing page)
Jared Andrews
git_last_commit: 429fdab
git_last_commit_date: 2024-04-30 11:53:28 -0400
nebbiolo2Linux (Ubuntu 22.04.3 LTS) / x86_64  OK  
lconwaymacOS 12.7.1 Monterey / x86_64  OK  
Package 17/32HostnameOS / ArchCHECK
crisprScore 1.9.0  (landing page)
Jean-Philippe Fortin
git_last_commit: 5d52cdb
git_last_commit_date: 2024-04-30 11:39:45 -0400
nebbiolo2Linux (Ubuntu 22.04.3 LTS) / x86_64  OK  
lconwaymacOS 12.7.1 Monterey / x86_64  OK  
Package 18/32HostnameOS / ArchCHECK
DelayedMatrixStats 1.27.2  (landing page)
Peter Hickey
git_last_commit: 3ff05c4
git_last_commit_date: 2024-07-14 17:31:22 -0400
nebbiolo2Linux (Ubuntu 22.04.3 LTS) / x86_64  OK  
lconwaymacOS 12.7.1 Monterey / x86_64  OK  
Package 19/32HostnameOS / ArchCHECK
DropletUtils 1.25.0  (landing page)
Jonathan Griffiths
git_last_commit: 09b8cf7
git_last_commit_date: 2024-04-30 11:03:17 -0400
nebbiolo2Linux (Ubuntu 22.04.3 LTS) / x86_64  OK  
lconwaymacOS 12.7.1 Monterey / x86_64  OK  
Package 20/32HostnameOS / ArchCHECK
EpiMix 1.7.1  (landing page)
Yuanning Zheng
git_last_commit: bb3a46f
git_last_commit_date: 2024-05-01 12:42:22 -0400
nebbiolo2Linux (Ubuntu 22.04.3 LTS) / x86_64  OK  
lconwaymacOS 12.7.1 Monterey / x86_64  OK  
Package 21/32HostnameOS / ArchCHECK
extraChIPs 1.9.1  (landing page)
Stevie Pederson
git_last_commit: 9a4222f
git_last_commit_date: 2024-05-04 09:09:42 -0400
nebbiolo2Linux (Ubuntu 22.04.3 LTS) / x86_64  OK  
lconwaymacOS 12.7.1 Monterey / x86_64  OK  
Package 22/32HostnameOS / ArchCHECK
GenomicFeatures 1.57.0  (landing page)
H. Pagès
git_last_commit: 9d8d2d9
git_last_commit_date: 2024-04-30 13:30:42 -0400
nebbiolo2Linux (Ubuntu 22.04.3 LTS) / x86_64  WARNINGS  
lconwaymacOS 12.7.1 Monterey / x86_64  WARNINGS  
Package 23/32HostnameOS / ArchCHECK
ginmappeR 1.1.2  (landing page)
Fernando Sola
git_last_commit: 40d62d8
git_last_commit_date: 2024-06-24 09:41:52 -0400
nebbiolo2Linux (Ubuntu 22.04.3 LTS) / x86_64  OK  
lconwaymacOS 12.7.1 Monterey / x86_64  OK  
Package 24/32HostnameOS / ArchCHECK
HDF5Array 1.33.4  (landing page)
Hervé Pagès
git_last_commit: be0b450
git_last_commit_date: 2024-07-17 03:06:02 -0400
nebbiolo2Linux (Ubuntu 22.04.3 LTS) / x86_64  OK  
lconwaymacOS 12.7.1 Monterey / x86_64  WARNINGS  
Package 25/32HostnameOS / ArchCHECK
midasHLA 1.13.0  (landing page)
Maciej Migdał
git_last_commit: 1e62016
git_last_commit_date: 2024-04-30 11:31:39 -0400
nebbiolo2Linux (Ubuntu 22.04.3 LTS) / x86_64  ERROR  
lconwaymacOS 12.7.1 Monterey / x86_64  ERROR  
Package 26/32HostnameOS / ArchCHECK
mosdef 1.1.0  (landing page)
Federico Marini
git_last_commit: 33678ac
git_last_commit_date: 2024-04-30 11:56:21 -0400
nebbiolo2Linux (Ubuntu 22.04.3 LTS) / x86_64  OK  
lconwaymacOS 12.7.1 Monterey / x86_64  OK  
Package 27/32HostnameOS / ArchCHECK
MungeSumstats 1.13.2  (landing page)
Alan Murphy
git_last_commit: c79a47a
git_last_commit_date: 2024-07-17 07:08:15 -0400
nebbiolo2Linux (Ubuntu 22.04.3 LTS) / x86_64  OK  
lconwaymacOS 12.7.1 Monterey / x86_64  OK  
Package 28/32HostnameOS / ArchCHECK
rhdf5 2.49.0  (landing page)
Mike Smith
git_last_commit: cb3b4a4
git_last_commit_date: 2024-04-30 10:26:43 -0400
nebbiolo2Linux (Ubuntu 22.04.3 LTS) / x86_64  OK  
lconwaymacOS 12.7.1 Monterey / x86_64  OK  
Package 29/32HostnameOS / ArchCHECK
SimBu 1.7.0  (landing page)
Alexander Dietrich
git_last_commit: b412ad3
git_last_commit_date: 2024-04-30 11:44:04 -0400
nebbiolo2Linux (Ubuntu 22.04.3 LTS) / x86_64  OK  
lconwaymacOS 12.7.1 Monterey / x86_64  OK  
Package 30/32HostnameOS / ArchCHECK
TENxIO 1.7.1  (landing page)
Marcel Ramos
git_last_commit: 47ccab2
git_last_commit_date: 2024-06-05 16:11:33 -0400
nebbiolo2Linux (Ubuntu 22.04.3 LTS) / x86_64  ERROR  
lconwaymacOS 12.7.1 Monterey / x86_64  ERROR  
Package 31/32HostnameOS / ArchCHECK
xcms 4.3.1  (landing page)
Steffen Neumann
git_last_commit: 88bdd816
git_last_commit_date: 2024-05-08 07:43:54 -0400
nebbiolo2Linux (Ubuntu 22.04.3 LTS) / x86_64  ERROR  
lconwaymacOS 12.7.1 Monterey / x86_64  ERROR  
Package 32/32HostnameOS / ArchCHECK
zellkonverter 1.15.1  (landing page)
Luke Zappia
git_last_commit: 328e7ea
git_last_commit_date: 2024-06-21 04:56:07 -0400
nebbiolo2Linux (Ubuntu 22.04.3 LTS) / x86_64  OK  
lconwaymacOS 12.7.1 Monterey / x86_64  OK