Name | Last modified | Size | Description | |
---|---|---|---|---|
Parent Directory | - | |||
buildbin-out.txt | 17-Jul-2024 00:41 | 1.1K | ||
buildbin-summary.dcf | 17-Jul-2024 00:41 | 509 | ||
buildsrc-out.txt | 17-Jul-2024 00:41 | 835 | ||
buildsrc-summary.dcf | 17-Jul-2024 00:41 | 451 | ||
checksrc-out.txt | 17-Jul-2024 00:41 | 13K | ||
checksrc-summary.dcf | 17-Jul-2024 00:41 | 457 | ||
install-out.txt | 17-Jul-2024 00:41 | 968 | ||
install-summary.dcf | 17-Jul-2024 00:41 | 270 | ||