Name | Last modified | Size | Description | |
---|---|---|---|---|
Parent Directory | - | |||
install-summary.dcf | 27-Jul-2024 00:39 | 255 | ||
install-out.txt | 27-Jul-2024 00:39 | 946 | ||
buildsrc-out.txt | 27-Jul-2024 00:39 | 822 | ||
buildsrc-summary.dcf | 27-Jul-2024 00:39 | 418 | ||
checksrc-out.txt | 27-Jul-2024 00:39 | 13K | ||
checksrc-summary.dcf | 27-Jul-2024 00:39 | 412 | ||