Name | Last modified | Size | Description | |
---|---|---|---|---|
Parent Directory | - | |||
buildsrc-out.txt | 09-Jul-2024 00:45 | 786 | ||
buildsrc-summary.dcf | 09-Jul-2024 00:45 | 398 | ||
checksrc-out.txt | 09-Jul-2024 00:45 | 13K | ||
checksrc-summary.dcf | 09-Jul-2024 00:45 | 403 | ||
install-out.txt | 07-Jul-2024 00:45 | 928 | ||
install-summary.dcf | 07-Jul-2024 00:45 | 243 | ||