Name | Last modified | Size | Description | |
---|---|---|---|---|
Parent Directory | - | |||
install-summary.dcf | 07-Jul-2024 00:45 | 245 | ||
checksrc-summary.dcf | 09-Jul-2024 00:45 | 401 | ||
buildsrc-summary.dcf | 09-Jul-2024 00:45 | 403 | ||
buildsrc-out.txt | 09-Jul-2024 00:45 | 790 | ||
install-out.txt | 07-Jul-2024 00:45 | 1.0K | ||
checksrc-out.txt | 09-Jul-2024 00:45 | 3.5K | ||