Name | Last modified | Size | Description | |
---|---|---|---|---|
Parent Directory | - | |||
checksrc-out.txt | 06-Jul-2024 00:45 | 4.0K | ||
checksrc-summary.dcf | 06-Jul-2024 00:45 | 403 | ||
buildsrc-summary.dcf | 06-Jul-2024 00:45 | 399 | ||
buildsrc-out.txt | 06-Jul-2024 00:45 | 826 | ||
install-summary.dcf | 06-Jul-2024 00:45 | 243 | ||
install-out.txt | 06-Jul-2024 00:45 | 1.9K | ||